BEGIN:VCALENDAR
VERSION:2.0
PRODID:-//Comitè Escèniques - ECPv6.15.12.2//NONSGML v1.0//EN
CALSCALE:GREGORIAN
METHOD:PUBLISH
X-ORIGINAL-URL:https://comiteesceniques.org/es/
X-WR-CALDESC:Eventos para Comitè Escèniques
REFRESH-INTERVAL;VALUE=DURATION:PT1H
X-Robots-Tag:noindex
X-PUBLISHED-TTL:PT1H
BEGIN:VTIMEZONE
TZID:Europe/Madrid
BEGIN:DAYLIGHT
TZOFFSETFROM:+0100
TZOFFSETTO:+0200
TZNAME:CEST
DTSTART:20240331T010000
END:DAYLIGHT
BEGIN:STANDARD
TZOFFSETFROM:+0200
TZOFFSETTO:+0100
TZNAME:CET
DTSTART:20241027T010000
END:STANDARD
BEGIN:DAYLIGHT
TZOFFSETFROM:+0100
TZOFFSETTO:+0200
TZNAME:CEST
DTSTART:20250330T010000
END:DAYLIGHT
BEGIN:STANDARD
TZOFFSETFROM:+0200
TZOFFSETTO:+0100
TZNAME:CET
DTSTART:20251026T010000
END:STANDARD
BEGIN:DAYLIGHT
TZOFFSETFROM:+0100
TZOFFSETTO:+0200
TZNAME:CEST
DTSTART:20260329T010000
END:DAYLIGHT
BEGIN:STANDARD
TZOFFSETFROM:+0200
TZOFFSETTO:+0100
TZNAME:CET
DTSTART:20261025T010000
END:STANDARD
END:VTIMEZONE
BEGIN:VEVENT
DTSTART;VALUE=DATE:20250531
DTEND;VALUE=DATE:20250601
DTSTAMP:20260420T003740
CREATED:20250513T111920Z
LAST-MODIFIED:20250513T111920Z
UID:5294-1748649600-1748735999@comiteesceniques.org
SUMMARY:OBJETUARIO\, d'Ana Ulloa
DESCRIPTION:OBJETUARIO\, d’Ana Ulloa \n31 de maig \nCASA DE CULTURA BENIFAIÓ (València) \nVIA ESCÈNICA (Russafa Escènica) \nMés info sobre Ana Ulloa.
URL:https://comiteesceniques.org/es/event/objetuario-dana-ulloa-7/
LOCATION:CENTRE CULTURAL DE BENIFAIÓ
CATEGORIES:Espectáculos
ATTACH;FMTTYPE=image/jpeg:https://comiteesceniques.org/wp-content/uploads/2024/12/3.OBJETUARIO2-ANA-ULLOA-Ana-Ulloa.jpg
END:VEVENT
END:VCALENDAR