BEGIN:VCALENDAR
VERSION:2.0
PRODID:-//Comitè Escèniques - ECPv6.15.12.2//NONSGML v1.0//EN
CALSCALE:GREGORIAN
METHOD:PUBLISH
X-WR-CALNAME:Comitè Escèniques
X-ORIGINAL-URL:https://comiteesceniques.org/es/
X-WR-CALDESC:Eventos para Comitè Escèniques
REFRESH-INTERVAL;VALUE=DURATION:PT1H
X-Robots-Tag:noindex
X-PUBLISHED-TTL:PT1H
BEGIN:VTIMEZONE
TZID:Europe/Madrid
BEGIN:DAYLIGHT
TZOFFSETFROM:+0100
TZOFFSETTO:+0200
TZNAME:CEST
DTSTART:20240331T010000
END:DAYLIGHT
BEGIN:STANDARD
TZOFFSETFROM:+0200
TZOFFSETTO:+0100
TZNAME:CET
DTSTART:20241027T010000
END:STANDARD
BEGIN:DAYLIGHT
TZOFFSETFROM:+0100
TZOFFSETTO:+0200
TZNAME:CEST
DTSTART:20250330T010000
END:DAYLIGHT
BEGIN:STANDARD
TZOFFSETFROM:+0200
TZOFFSETTO:+0100
TZNAME:CET
DTSTART:20251026T010000
END:STANDARD
BEGIN:DAYLIGHT
TZOFFSETFROM:+0100
TZOFFSETTO:+0200
TZNAME:CEST
DTSTART:20260329T010000
END:DAYLIGHT
BEGIN:STANDARD
TZOFFSETFROM:+0200
TZOFFSETTO:+0100
TZNAME:CET
DTSTART:20261025T010000
END:STANDARD
END:VTIMEZONE
BEGIN:VEVENT
DTSTART;VALUE=DATE:20250718
DTEND;VALUE=DATE:20250910
DTSTAMP:20260422T211712
CREATED:20250718T085710Z
LAST-MODIFIED:20250718T085710Z
UID:5654-1752796800-1757462399@comiteesceniques.org
SUMMARY:Convocatòria artística per a dFERIA 2026
DESCRIPTION:Convocatòria artística per a dFERIA 2026\nData límit: 9 setembre\, 2025 \nDes del 9 de juliol i fins al 9 de setembre està oberta la convocatòria artística per a totes aquelles companyies de teatre i dansa interessades a participar en la pròxima edició dFERIA que presenten espectacles dirigits a públic jove i adult de recent creació. \nPots consultar les condicions d’inscripció estipulades (espectacles de recent creació) i emplenar el procés d’inscripció online. S’aconsella tindre a mà dades de l’espectacle i documentació a adjuntar: dossier\, fotos\, fitxa artística\, fitxa tècnica\, una altra documentació d’interés. \nAccedeix a la convocatòria fent clic ací.
URL:https://comiteesceniques.org/es/event/convocatoria-artistica-per-a-dferia-2026/
CATEGORIES:Convocatoria
ATTACH;FMTTYPE=image/png:https://comiteesceniques.org/wp-content/uploads/2025/07/dferia.png
END:VEVENT
BEGIN:VEVENT
DTSTART;VALUE=DATE:20250902
DTEND;VALUE=DATE:20250915
DTSTAMP:20260422T211712
CREATED:20250902T111511Z
LAST-MODIFIED:20250902T111511Z
UID:5821-1756771200-1757894399@comiteesceniques.org
SUMMARY:PREMI DE TEXTOS ESCÈNICS Programa Leb25-Prod
DESCRIPTION:PROGRAMA LEB25-PROD\nPREMI DE TEXTOS ESCÈNICS\n\nL’Associació IRIARTEA PILEZ\, promotora del PROGRAMA LEB 2025\, convoca el premi de textos escènics (dramàtics\, predramàtics i/o postdramàtics) amb la col·laboració de la AAT (Associació d’Autores i Autors de Teatre) i la ADE (Associació de Directores i Directors d’Escena). Aquest projecte compta amb la col·laboració del Programa Innova\, impulsat per Fundació Caixa Navarresa i Fundació “la Caixa”.\nLEB PROD cerca fomentar la producció de textos que indaguen en noves dramatúrgies\, noves formes i noves poètiques\, apostes per formats d’avantguarda\, per Nous Llenguatges Escènics (en basc\, Lengoaia Eszeniko Berriak = LEB). Podran concórrer autores/és\, companyies i/o col·lectius de qualsevol edat i de qualsevol lloc.\nLes obres hauran d’estar escrites en castellà i ser originals (no s’admetrà cap classe d’adaptació o versió d’una altra obra de qualsevol gènere literari\, ni d’obres prèvies d’autoria pròpia). \nTERMINI OBERT FINS EL 14 de SETEMBRE DE 2025. \nMÉS INFO ACÍ.
URL:https://comiteesceniques.org/es/event/premi-de-textos-escenics-programa-leb25-prod/
CATEGORIES:Convocatoria
ATTACH;FMTTYPE=image/png:https://comiteesceniques.org/wp-content/uploads/2025/09/PROGRAMA-LEB.png
END:VEVENT
BEGIN:VEVENT
DTSTART;VALUE=DATE:20250902
DTEND;VALUE=DATE:20251201
DTSTAMP:20260422T211712
CREATED:20250902T112138Z
LAST-MODIFIED:20250902T112138Z
UID:5825-1756771200-1764547199@comiteesceniques.org
SUMMARY:LECTURES DRAMATITZADES I MOSTRES WORK IN PROGRESS Programa LEB25 - EKIN
DESCRIPTION:LECTURES DRAMATITZADES I MOSTRES WORK IN PROGRESS Programa LEB25 – EKIN \nL’Associació IRIARTEA PILEZ\, promotora del PROGRAMA LEB 2025\, convoca a autors/as i artistes per a la realització de cinc lectures dramatitzades i/o mostres de processos creatius en l’entorn rural\, en Elizondo a la Vall de Baztan a Navarra. Aquest projecte compta amb la col·laboració del Programa Innova\, impulsat per Fundació Caixa Navarresa i Fundació “la Caixa”. LEB EKIN cerca fomentar el diàleg entre creadors i públic durant els processos creatius que treballen en la línia de noves formes i noves poètiques\, apostes per formats d’avantguarda\, per Nous Llenguatges Escènics (en basc\, Lengoaia Eszeniko Berriak = LEB).\nPodran concórrer dramaturgues/us\, companyies i/o col·lectius i/o artistes escèniques que treballen en codis d’avantguarda i estiguen immersos en processos creatius o tinguen obra (de qualsevol disciplina escènica) encara no estrenada i que vulguen contrastar-la amb el públic.\nDe gener a maig de 2026\, una vegada al mes (en dates per concretar)\, es duran a terme en Elizondo (Baztan\, Navarra)\, lectures dramatitzades i mostres Work in Progress per a fomentar el diàleg entre creadors/as i públic durant els processos creatius. \nTERMINI OBERT FINS EL 30 DE NOVEMBRE DE 2025. \nMÉS INFO ACÍ.
URL:https://comiteesceniques.org/es/event/lectures-dramatitzades-i-mostres-work-in-progress-programa-leb25-ekin/
CATEGORIES:Convocatoria
ATTACH;FMTTYPE=image/png:https://comiteesceniques.org/wp-content/uploads/2025/09/PROGRAMA-LEB.png
END:VEVENT
BEGIN:VEVENT
DTSTART;VALUE=DATE:20250903
DTEND;VALUE=DATE:20250924
DTSTAMP:20260422T211712
CREATED:20250903T071958Z
LAST-MODIFIED:20250903T071958Z
UID:5827-1756857600-1758671999@comiteesceniques.org
SUMMARY:VI Certamen de microteatre «Itinerants» Ciutat de Cabra
DESCRIPTION:VI Certamen de microteatre «Itinerants» Ciutat de Cabra\nLa Companyia “La intriga teatre” en col·laboració amb l’Il·lm. Ajuntament de Cabra i la Il·lma. Diputació de Còrdova\, convoca el VI CERTAMEN DE Microteatre “Itinerants” CIUTAT DE CABRA\, amb la finalitat de fomentar la creació i difusió teatral en qualsevol de les seues varietats i en format de “microteatre”\, així com dinamitzar i potenciar la vida cultural i social de la ciutat de Cabra. \nEl Certamen està organitzat per l’Associació “La intriga teatro” amb el suport de l’Ajuntament de Cabra. \nEl certamen es desenvoluparà el dissabte\, 25 d’octubre de 2025 amb la representació de les obres de les CINC companyies finalistes. El mateix dissabte 25\, posteriorment al recorregut teatral i després d’un descans\, es realitzarà la gala final on es farà lliurament dels premis\, llevat que per circumstàncies extraordinàries no puga realitzar-se o es faça via streaming.\nPodran participar totes aquelles companyies nacionals de teatre PROFESSIONAL\, els membres del qual siguen majors de 18 anys. \nMés informació ací. \nTermini de presentació obert fins el 23 de setembre.
URL:https://comiteesceniques.org/es/event/vi-certamen-de-microteatre-itinerants-ciutat-de-cabra/
CATEGORIES:Convocatoria
ATTACH;FMTTYPE=image/jpeg:https://comiteesceniques.org/wp-content/uploads/2025/09/Actuacion-en-el-Ayuntamiento-de-Cabra-780x470-1.jpg
END:VEVENT
BEGIN:VEVENT
DTSTART;TZID=Europe/Madrid:20250903T080000
DTEND;TZID=Europe/Madrid:20250915T140000
DTSTAMP:20260422T211712
CREATED:20250903T072540Z
LAST-MODIFIED:20250903T072540Z
UID:5831-1756886400-1757944800@comiteesceniques.org
SUMMARY:CONVOCATÒRIA ARTÍSTICA MADferia 2026
DESCRIPTION:CONVOCATÒRIA ARTÍSTICA MADferia 2026\nLa XXII edició de MADFERIA se celebrarà del 26 al 30 de gener de 2026 a San Lorenzo de El Escorial i Madrid capital. \nTermini per a la presentació de sol·licituds: del 24 de juliol al 15 de setembre a les 14.00.\nAtenció: a causa de les circumstàncies especials d’aquesta edició de MADferia\, que se celebrarà tan sols sis mesos després de l’anterior\, la convocatòria artística serà més breu de l’habitual. \nRecomanem la lectura atenta de les condicions de participació abans de presentar la vostra/s proposada/s a MADferia. En inscriure l’espectacle\, la companyia reconeix de manera implícita la seua acceptació d’aquestes condicions de participació.\nÉs necessari presentar tot el material sol·licitat en el formulari d’inscripció\, incloent de manera obligatòria enllaç a un vídeo complet de la proposta. Aquest enllaç ha de ser de visionat en línia\, no descarregable i que no requerisca cap mena de subscripció. Agraïm corroborar que la caducitat de l’enllaç és posterior al 31 de gener de 2026.\nEn cas de no aportar els materials requerits o que no reunisquen les característiques descrites\, la proposta serà directament rebutjada.\nMADferia és una fira professional\, per això\, és requisit imprescindible que les companyies que presenten propostes siguen professionals\, entenent per això que estiguen donades d’alta com a empresa\, autònoms o qualsevol altra forma jurídica contemplada dins del règim d’empresaris professionals.\nLes companyies poden presentar com a màxim una proposta a la convocatòria.\nUna vegada realitzada la inscripció rebràs un correu electrònic automàtic de confirmació. En cas de no rebre-ho\, contacta amb l’organització per a confirmar la inscripció. La teua inscripció serà revisada a partir de l’1 de setembre i abans\, en qualsevol cas\, que finalitze el termini de la convocatòria.\nQuedem a la teua disposició per a resoldre qualsevol dubte o incidència en l’email: secretaria@madferia.com \nTota la informació ací.
URL:https://comiteesceniques.org/es/event/convocatoria-artistica-madferia-2026/
CATEGORIES:Convocatoria
ATTACH;FMTTYPE=image/png:https://comiteesceniques.org/wp-content/uploads/2024/11/MADFERIA.png
END:VEVENT
BEGIN:VEVENT
DTSTART;VALUE=DATE:20250905
DTEND;VALUE=DATE:20250922
DTSTAMP:20260422T211712
CREATED:20250905T144622Z
LAST-MODIFIED:20250905T144622Z
UID:5837-1757030400-1758499199@comiteesceniques.org
SUMMARY:Convocatòria Festival Xalar a l'Alt Maestrat 2026
DESCRIPTION:Convocatòria Festival Xalar a l’Alt Maestrat 2026\nFestival Xalar obri convocatòria d’exhibició per a artistes i companyies que desitgin participar en la IV edició del Festival Xalar a l’Alt Maestrat: II Festival d’arts escèniques participat per gent jove\, que se celebrarà en diferents pobles de la comarca els dies 8\, 9 i 10 de maig del 2026. \nXalar és un festival participat per joves: això vol dir que les decisions sobre la programació\, el disseny del festival o les activitats complementàries seran preses per joves voluntaris de la comarca (14-30 anys) a través d’un procés de mediació. \nLa convocatòria està oberta als diferents llenguatges i disciplines d’arts escèniques: circ\, teatre\, dansa\, monòlegs\, clown\, teatre de carrer… \nTeniu les bases completes de la convocatòria en aquest enllaç: \nhttps://www.festivalxalar.com/_files/ugd/3707c7_8449dfc89bac4dd0ba197e1651377288.pdf \nUs animem a enviar-nos les vostres propostes d’espectacles a través del nostre formulari: https://forms.gle/Cxu94ftmtM1JvRxTA \n\n\n\nLa data límit de recepció de propostes és el 21 de setembre a les 23:59h.
URL:https://comiteesceniques.org/es/event/convocatoria-festival-xalar-a-lalt-maestrat-2026/
CATEGORIES:Convocatoria
ATTACH;FMTTYPE=image/jpeg:https://comiteesceniques.org/wp-content/uploads/2024/11/FESTIVAL-XALAR.jpg
END:VEVENT
END:VCALENDAR