BEGIN:VCALENDAR
VERSION:2.0
PRODID:-//Comitè Escèniques - ECPv6.15.12.2//NONSGML v1.0//EN
CALSCALE:GREGORIAN
METHOD:PUBLISH
X-WR-CALNAME:Comitè Escèniques
X-ORIGINAL-URL:https://comiteesceniques.org/es/
X-WR-CALDESC:Eventos para Comitè Escèniques
REFRESH-INTERVAL;VALUE=DURATION:PT1H
X-Robots-Tag:noindex
X-PUBLISHED-TTL:PT1H
BEGIN:VTIMEZONE
TZID:Europe/Madrid
BEGIN:DAYLIGHT
TZOFFSETFROM:+0100
TZOFFSETTO:+0200
TZNAME:CEST
DTSTART:20240331T010000
END:DAYLIGHT
BEGIN:STANDARD
TZOFFSETFROM:+0200
TZOFFSETTO:+0100
TZNAME:CET
DTSTART:20241027T010000
END:STANDARD
BEGIN:DAYLIGHT
TZOFFSETFROM:+0100
TZOFFSETTO:+0200
TZNAME:CEST
DTSTART:20250330T010000
END:DAYLIGHT
BEGIN:STANDARD
TZOFFSETFROM:+0200
TZOFFSETTO:+0100
TZNAME:CET
DTSTART:20251026T010000
END:STANDARD
BEGIN:DAYLIGHT
TZOFFSETFROM:+0100
TZOFFSETTO:+0200
TZNAME:CEST
DTSTART:20260329T010000
END:DAYLIGHT
BEGIN:STANDARD
TZOFFSETFROM:+0200
TZOFFSETTO:+0100
TZNAME:CET
DTSTART:20261025T010000
END:STANDARD
END:VTIMEZONE
BEGIN:VEVENT
DTSTART;VALUE=DATE:20250409
DTEND;VALUE=DATE:20250529
DTSTAMP:20260421T123331
CREATED:20250401T100321Z
LAST-MODIFIED:20250401T100321Z
UID:5053-1744156800-1748476799@comiteesceniques.org
SUMMARY:Teatre i Animació Sociocultural Juvenil: Eines per a la Inclusió i la Transformació Social\, amb Fernando Tébar
DESCRIPTION:Teatre i Animació Sociocultural Juvenil: Eines per a la Inclusió i la Transformació Social\, amb Fernando Tébar\nDel 9 d’abril al 28 de maig. Dimecres de 17h a 20:30h \nOctubre Centre de Cultura Contemporània
URL:https://comiteesceniques.org/es/event/teatre-i-animacio-sociocultural-juvenil-eines-per-a-la-inclusio-i-la-transformacio-social-amb-fernando-tebar/
LOCATION:Octubre Centre de Cultura Contemporània\, Carrer Sant Ferran\, 12\,\, València\, València\, 46001\, Spain
CATEGORIES:Formación
ATTACH;FMTTYPE=image/jpeg:https://comiteesceniques.org/wp-content/uploads/2025/04/Teatre-i-animacio-social_FernandoTebar-Fernando-Tebar.jpg
END:VEVENT
BEGIN:VEVENT
DTSTART;VALUE=DATE:20250505
DTEND;VALUE=DATE:20250530
DTSTAMP:20260421T123331
CREATED:20250513T112306Z
LAST-MODIFIED:20250513T112306Z
UID:5297-1746403200-1748563199@comiteesceniques.org
SUMMARY:TALLER "CLOWN I METÀFORA"\, amb Patrícia Pardo
DESCRIPTION:TALLER «CLOWN I METÀFORA»\, amb Patrícia Pardo \nDel 5 al 29 de maig. \nCentre Teatral Escalante \nMés info sobre Patrícia Pardo ací. I ací. \n 
URL:https://comiteesceniques.org/es/event/taller-clown-i-metafora-amb-patricia-pardo-2/
LOCATION:Centre Teatral Escalante\, C. del Poeta Querol S/N Esquina\, C/ de les Barques\, 15\, València\, València\, 46002\, Spain
CATEGORIES:Formación
ATTACH;FMTTYPE=image/jpeg:https://comiteesceniques.org/wp-content/uploads/2025/04/TALLER-PATRICIA-PARDO-scaled.jpg
END:VEVENT
BEGIN:VEVENT
DTSTART;VALUE=DATE:20250515
DTEND;VALUE=DATE:20250519
DTSTAMP:20260421T123331
CREATED:20250513T093254Z
LAST-MODIFIED:20250513T093254Z
UID:5217-1747267200-1747612799@comiteesceniques.org
SUMMARY:FESTIVAL CABANYAL ÍNTIM
DESCRIPTION:FESTIVAL CABANYAL ÍNTIM\nOrganitzat per Francachela Teatre \nDel 15 al 18 de maig al barri del Cabanyal de València \n 
URL:https://comiteesceniques.org/es/event/festival-cabanyal-intim/
LOCATION:Barri del Cabanyal\, Cabanyal\, València\, València\, 46011\, Spain
CATEGORIES:Otras
ATTACH;FMTTYPE=image/jpeg:https://comiteesceniques.org/wp-content/uploads/2025/05/programacion-2025-cabanyal-intim-1-pag_page-0001.jpg
END:VEVENT
BEGIN:VEVENT
DTSTART;TZID=Europe/Madrid:20250518T000000
DTEND;TZID=Europe/Madrid:20250518T130000
DTSTAMP:20260421T123331
CREATED:20250513T101640Z
LAST-MODIFIED:20250513T101640Z
UID:5266-1747526400-1747573200@comiteesceniques.org
SUMMARY:FRÀGIL\, de Cia. Maria Andrés
DESCRIPTION:FRÀGIL\, de Cia. Maria Andrés\n18 de maig a les 12 h \nEstamariu (Lleida) \nFunció al carrer
URL:https://comiteesceniques.org/es/event/fragil-de-cia-maria-andres-5/
LOCATION:Estamariu\, Estamariu\, Lleida\, Spain
CATEGORIES:Espectáculos
ATTACH;FMTTYPE=image/png:https://comiteesceniques.org/wp-content/uploads/2025/02/Captura-de-pantalla-2025-02-28-a-las-12.40.04.png
END:VEVENT
BEGIN:VEVENT
DTSTART;TZID=Europe/Madrid:20250518T000000
DTEND;TZID=Europe/Madrid:20250518T133000
DTSTAMP:20260421T123331
CREATED:20250426T151045Z
LAST-MODIFIED:20250426T151045Z
UID:5128-1747526400-1747575000@comiteesceniques.org
SUMMARY:FRÀGIL\, de Cia. Maria Andrés
DESCRIPTION:FRÀGIL\nCia. Maria Andrés \nQuan: 03 de maig a les 12 h\nOn: Centre Cultural L’Alqueria d’Albors (València)\nInfo i reserves: Cia. Maria Andrés \nQuan: 18 de maig a les 12 h\nOn: Estamariu (Lleida) – funció al carrer\nInfo i reserves: Cia. Maria Andrés
URL:https://comiteesceniques.org/es/event/fragil-de-cia-maria-andres-4/
LOCATION:Estamariu\, Estamariu\, Lleida\, Spain
CATEGORIES:Espectáculos
ATTACH;FMTTYPE=image/jpeg:https://comiteesceniques.org/wp-content/uploads/2025/02/FRAGIL-2-scaled.jpg
END:VEVENT
BEGIN:VEVENT
DTSTART;VALUE=DATE:20250518
DTEND;VALUE=DATE:20250519
DTSTAMP:20260421T123331
CREATED:20250513T101337Z
LAST-MODIFIED:20250513T101337Z
UID:5264-1747526400-1747612799@comiteesceniques.org
SUMMARY:EXILIUM\, d'Ana Ulloa
DESCRIPTION:EXILIUM\, d’Ana Ulloa\n17 i 18 de maig \nSALA EX PRESA – FESTIVAL TITIRIMUNDI – SEGOVIA \nSobre Ana Ulloa ací. \nESTRENA ABSOLUTA
URL:https://comiteesceniques.org/es/event/exilium-dana-ulloa-2/
LOCATION:Sala Ex Presa de Segovia\, Av. Juan Carlos\, I\, Segovia\, Segovia\, 40005\, Spain
CATEGORIES:Espectáculos
ATTACH;FMTTYPE=image/jpeg:https://comiteesceniques.org/wp-content/uploads/2025/05/EXILIUM-titirimundi_-ANA-ULLOA-Ana-Ulloa.jpg
END:VEVENT
BEGIN:VEVENT
DTSTART;TZID=Europe/Madrid:20250518T180000
DTEND;TZID=Europe/Madrid:20250518T183000
DTSTAMP:20260421T123331
CREATED:20250513T095415Z
LAST-MODIFIED:20250513T095415Z
UID:5244-1747591200-1747593000@comiteesceniques.org
SUMMARY:FRACASA OTRA VEZ\, FRACASA MEJOR\, de La Subterránea
DESCRIPTION:FRACASA OTRA VEZ\, FRACASA MEJOR\, de La Subterránea\nDivendres 16 de maig: 18.30h / 19.30h\nDissabte 17 de maig: 18:00h / 19:00h / 20:00h\nDiumenge 18 de maig: 18:00h / 19:00h / 20:00h \nCol·legi Santiago Apòstol. C/ Arquebisbe Company\, 57 (València) \nESTRENA ABSOLUTA
URL:https://comiteesceniques.org/es/event/fracasa-otra-vez-fracasa-mejor-de-la-subterranea-6/
LOCATION:Col·legi Santiago Apòstol\, c/ Arquebisbe Company\, 57\, València\, València\, 46011\, Spain
CATEGORIES:Espectáculos
ATTACH;FMTTYPE=image/jpeg:https://comiteesceniques.org/wp-content/uploads/2025/05/fracasa-mejor-Ester-Martinez-Medrano.jpg
END:VEVENT
BEGIN:VEVENT
DTSTART;TZID=Europe/Madrid:20250518T190000
DTEND;TZID=Europe/Madrid:20250518T193000
DTSTAMP:20260421T123331
CREATED:20250513T095518Z
LAST-MODIFIED:20250513T095518Z
UID:5246-1747594800-1747596600@comiteesceniques.org
SUMMARY:FRACASA OTRA VEZ\, FRACASA MEJOR\, de La Subterránea
DESCRIPTION:FRACASA OTRA VEZ\, FRACASA MEJOR\, de La Subterránea\nDivendres 16 de maig: 18.30h / 19.30h\nDissabte 17 de maig: 18:00h / 19:00h / 20:00h\nDiumenge 18 de maig: 18:00h / 19:00h / 20:00h \nCol·legi Santiago Apòstol. C/ Arquebisbe Company\, 57 (València) \nESTRENA ABSOLUTA
URL:https://comiteesceniques.org/es/event/fracasa-otra-vez-fracasa-mejor-de-la-subterranea-7/
LOCATION:Col·legi Santiago Apòstol\, c/ Arquebisbe Company\, 57\, València\, València\, 46011\, Spain
CATEGORIES:Espectáculos
ATTACH;FMTTYPE=image/jpeg:https://comiteesceniques.org/wp-content/uploads/2025/05/fracasa-mejor-Ester-Martinez-Medrano.jpg
END:VEVENT
BEGIN:VEVENT
DTSTART;TZID=Europe/Madrid:20250518T190000
DTEND;TZID=Europe/Madrid:20250518T203000
DTSTAMP:20260421T123331
CREATED:20250513T092844Z
LAST-MODIFIED:20250513T092844Z
UID:5215-1747594800-1747600200@comiteesceniques.org
SUMMARY:Rogles de cançons i misèria\, de Cactus Teatre
DESCRIPTION:Rogles de cançons i misèria\, de Cactus Teatre\nDel 15 al 18 de maig. \nDe dijous a dissabte a les 20:00. Diumenge a les 19:00 \nSala Russafa de València \nESTRENA ABSOLUTA
URL:https://comiteesceniques.org/es/event/rogles-de-cancons-i-miseria-de-cactus-teatre-4/
LOCATION:Sala Russafa\, Carrer de Dénia\, 55\, L'Eixample\, València\, València\, 46006
CATEGORIES:Espectáculos
ATTACH;FMTTYPE=image/jpeg:https://comiteesceniques.org/wp-content/uploads/2025/05/cartell-ROGLES-DE-CANCONS-I-MISSERIA-V1-baixa-Paula-Llorens.jpg
END:VEVENT
BEGIN:VEVENT
DTSTART;TZID=Europe/Madrid:20250518T200000
DTEND;TZID=Europe/Madrid:20250518T203000
DTSTAMP:20260421T123331
CREATED:20250513T095613Z
LAST-MODIFIED:20250513T095613Z
UID:5248-1747598400-1747600200@comiteesceniques.org
SUMMARY:FRACASA OTRA VEZ\, FRACASA MEJOR\, de La Subterránea
DESCRIPTION:FRACASA OTRA VEZ\, FRACASA MEJOR\, de La Subterránea\nDivendres 16 de maig: 18.30h / 19.30h\nDissabte 17 de maig: 18:00h / 19:00h / 20:00h\nDiumenge 18 de maig: 18:00h / 19:00h / 20:00h \nCol·legi Santiago Apòstol. C/ Arquebisbe Company\, 57 (València) \nESTRENA ABSOLUTA
URL:https://comiteesceniques.org/es/event/fracasa-otra-vez-fracasa-mejor-de-la-subterranea-8/
LOCATION:Col·legi Santiago Apòstol\, c/ Arquebisbe Company\, 57\, València\, València\, 46011\, Spain
CATEGORIES:Espectáculos
ATTACH;FMTTYPE=image/jpeg:https://comiteesceniques.org/wp-content/uploads/2025/05/fracasa-mejor-Ester-Martinez-Medrano.jpg
END:VEVENT
END:VCALENDAR