BEGIN:VCALENDAR
VERSION:2.0
PRODID:-//Comitè Escèniques - ECPv6.15.12.2//NONSGML v1.0//EN
CALSCALE:GREGORIAN
METHOD:PUBLISH
X-WR-CALNAME:Comitè Escèniques
X-ORIGINAL-URL:https://comiteesceniques.org/es/
X-WR-CALDESC:Eventos para Comitè Escèniques
REFRESH-INTERVAL;VALUE=DURATION:PT1H
X-Robots-Tag:noindex
X-PUBLISHED-TTL:PT1H
BEGIN:VTIMEZONE
TZID:Europe/Madrid
BEGIN:DAYLIGHT
TZOFFSETFROM:+0100
TZOFFSETTO:+0200
TZNAME:CEST
DTSTART:20240331T010000
END:DAYLIGHT
BEGIN:STANDARD
TZOFFSETFROM:+0200
TZOFFSETTO:+0100
TZNAME:CET
DTSTART:20241027T010000
END:STANDARD
BEGIN:DAYLIGHT
TZOFFSETFROM:+0100
TZOFFSETTO:+0200
TZNAME:CEST
DTSTART:20250330T010000
END:DAYLIGHT
BEGIN:STANDARD
TZOFFSETFROM:+0200
TZOFFSETTO:+0100
TZNAME:CET
DTSTART:20251026T010000
END:STANDARD
BEGIN:DAYLIGHT
TZOFFSETFROM:+0100
TZOFFSETTO:+0200
TZNAME:CEST
DTSTART:20260329T010000
END:DAYLIGHT
BEGIN:STANDARD
TZOFFSETFROM:+0200
TZOFFSETTO:+0100
TZNAME:CET
DTSTART:20261025T010000
END:STANDARD
END:VTIMEZONE
BEGIN:VEVENT
DTSTART;TZID=Europe/Madrid:20250704T200000
DTEND;TZID=Europe/Madrid:20250704T213000
DTSTAMP:20260422T171841
CREATED:20250623T110904Z
LAST-MODIFIED:20250623T110904Z
UID:5538-1751659200-1751664600@comiteesceniques.org
SUMMARY:FRÀGIL\, de Cia. Maria Andrés
DESCRIPTION:FRÀGIL\nCia. Maria Andrés \nQuan: 04 de juliol a les 20 h\nOn: Centro Cívico Torrero (Zaragoza)\nInfo i reserves: Cia. Maria Andrés
URL:https://comiteesceniques.org/es/event/fragil-de-cia-maria-andres-8/
LOCATION:Centro Cívico Torrero\, Zaragoza\, Zaragoza\, Spain
CATEGORIES:Espectáculos
ATTACH;FMTTYPE=image/png:https://comiteesceniques.org/wp-content/uploads/2025/02/Captura-de-pantalla-2025-02-28-a-las-12.56.03.png
END:VEVENT
BEGIN:VEVENT
DTSTART;TZID=Europe/Madrid:20250704T220000
DTEND;TZID=Europe/Madrid:20250704T233000
DTSTAMP:20260422T171841
CREATED:20250623T112332Z
LAST-MODIFIED:20250623T112332Z
UID:5556-1751666400-1751671800@comiteesceniques.org
SUMMARY:MAPACHE\, de Bisílaba
DESCRIPTION:MAPACHE\nBisílaba \nQuan: 04 de juliol a les 22 h\nOn: Casa dels Artillers (Foios)\nInfo i reserves: Escènia
URL:https://comiteesceniques.org/es/event/mapache-de-bisilaba-4/
LOCATION:Casa dels Artillers\, Avinguda Hugo Bacharach\, 15\, Foios\, València\, 46134\, Spain
CATEGORIES:Espectáculos
ATTACH;FMTTYPE=image/jpeg:https://comiteesceniques.org/wp-content/uploads/2025/06/MAPACHE-03-Gabriel-Ochoa-Bisilaba-scaled.jpg
END:VEVENT
BEGIN:VEVENT
DTSTART;TZID=Europe/Madrid:20250705T190000
DTEND;TZID=Europe/Madrid:20250705T203000
DTSTAMP:20260422T171841
CREATED:20250623T112531Z
LAST-MODIFIED:20250623T112531Z
UID:5562-1751742000-1751747400@comiteesceniques.org
SUMMARY:OBJETUARIO\, d'Ana Ulloa
DESCRIPTION:OBJETUARIO \n\nAna Ulloa \nQuan: 05 de juliol a les 19 h\nOn: Alfafar – Via Escènica\nInfo i reserves: Ana Ulloa
URL:https://comiteesceniques.org/es/event/objetuario-dana-ulloa-10/
LOCATION:Alfafar\, Alfafar\, València\, 46910\, Spain
CATEGORIES:Espectáculos
ATTACH;FMTTYPE=image/jpeg:https://comiteesceniques.org/wp-content/uploads/2024/12/3.OBJETUARIO2-ANA-ULLOA-Ana-Ulloa.jpg
END:VEVENT
BEGIN:VEVENT
DTSTART;TZID=Europe/Madrid:20250705T223000
DTEND;TZID=Europe/Madrid:20250705T235900
DTSTAMP:20260422T171841
CREATED:20250626T092808Z
LAST-MODIFIED:20250626T092808Z
UID:5572-1751754600-1751759940@comiteesceniques.org
SUMMARY:FRÀGIL\, de Cia. Maria Andrés
DESCRIPTION:FRÀGIL\nCia. Maria Andrés \nQuan: 05 de juliol a les 22’30 h\nOn: Festival La Peixera (Tordera\, Barcelona)\nInfo i reserves: Festival La Peixera
URL:https://comiteesceniques.org/es/event/fragil-de-cia-maria-andres-13/
LOCATION:Festival La Peixera\, Tordera\, Barcelona\, 08490\, Spain
CATEGORIES:Espectáculos
ATTACH;FMTTYPE=image/png:https://comiteesceniques.org/wp-content/uploads/2025/02/Captura-de-pantalla-2025-02-28-a-las-12.56.03.png
END:VEVENT
BEGIN:VEVENT
DTSTART;VALUE=DATE:20250710
DTEND;VALUE=DATE:20250711
DTSTAMP:20260422T171841
CREATED:20250623T111046Z
LAST-MODIFIED:20250623T111046Z
UID:5541-1752105600-1752191999@comiteesceniques.org
SUMMARY:FRÀGIL\, de Cia. Maria Andrés
DESCRIPTION:FRÀGIL\nCia. Maria Andrés \nQuan: 10 de juliol\nOn: Nit de pallasses (Tarragona)\nInfo i reserves: Cia. Maria Andrés
URL:https://comiteesceniques.org/es/event/fragil-de-cia-maria-andres-9/
LOCATION:Nit de Pallasses\, Tarragona\, Tarragona\, Spain
CATEGORIES:Espectáculos
ATTACH;FMTTYPE=image/png:https://comiteesceniques.org/wp-content/uploads/2025/02/Captura-de-pantalla-2025-02-28-a-las-12.56.03.png
END:VEVENT
BEGIN:VEVENT
DTSTART;TZID=Europe/Madrid:20250710T200000
DTEND;TZID=Europe/Madrid:20250710T213000
DTSTAMP:20260422T171841
CREATED:20250623T112736Z
LAST-MODIFIED:20250623T112736Z
UID:5564-1752177600-1752183000@comiteesceniques.org
SUMMARY:OBJETUARIO\, d'Ana Ulloa
DESCRIPTION:OBJETUARIO \n\nAna Ulloa \nQuan: 10 de juliol a les 20 h\nOn: Foios – Via Escènica\nInfo i reserves: Ana Ulloa / Escènia
URL:https://comiteesceniques.org/es/event/objetuario-dana-ulloa-11/
LOCATION:Foios\, Foios\, València\, 46134\, Spain
CATEGORIES:Espectáculos
ATTACH;FMTTYPE=image/jpeg:https://comiteesceniques.org/wp-content/uploads/2024/12/3.OBJETUARIO2-ANA-ULLOA-Ana-Ulloa.jpg
END:VEVENT
BEGIN:VEVENT
DTSTART;TZID=Europe/Madrid:20250712T160000
DTEND;TZID=Europe/Madrid:20250712T173000
DTSTAMP:20260422T171841
CREATED:20250623T111249Z
LAST-MODIFIED:20250623T111249Z
UID:5544-1752336000-1752341400@comiteesceniques.org
SUMMARY:FRÀGIL\, de Cia. Maria Andrés
DESCRIPTION:FRÀGIL\nCia. Maria Andrés \nQuan: 12 de juliol a les 16 h\nOn: Feria do livro da Maia (Maia\, Portugal)\nInfo i reserves: Cia. Maria Andrés
URL:https://comiteesceniques.org/es/event/fragil-de-cia-maria-andres-10/
LOCATION:Feria do Libro da Maia\, Maia\, Portugal
CATEGORIES:Espectáculos
ATTACH;FMTTYPE=image/png:https://comiteesceniques.org/wp-content/uploads/2025/02/Captura-de-pantalla-2025-02-28-a-las-12.56.03.png
END:VEVENT
BEGIN:VEVENT
DTSTART;TZID=Europe/Madrid:20250717T200000
DTEND;TZID=Europe/Madrid:20250717T213000
DTSTAMP:20260422T171841
CREATED:20250623T111519Z
LAST-MODIFIED:20250623T111519Z
UID:5548-1752782400-1752787800@comiteesceniques.org
SUMMARY:FRÀGIL\, de Cia. Maria Andrés
DESCRIPTION:FRÀGIL\nCia. Maria Andrés \nQuan: 17 de juliol a les 20 h\nOn: La Farinera del Clot (Barcelona)\nInfo i reserves: Cia. Maria Andrés
URL:https://comiteesceniques.org/es/event/fragil-de-cia-maria-andres-11/
LOCATION:La Farinera del Clot\, Gran Via de les Corts Catalanes\, 837\, Sant Martí\, Barcelona\, Barcelona\, 08018\, Spain
CATEGORIES:Espectáculos
ATTACH;FMTTYPE=image/png:https://comiteesceniques.org/wp-content/uploads/2025/02/Captura-de-pantalla-2025-02-28-a-las-12.56.03.png
END:VEVENT
BEGIN:VEVENT
DTSTART;VALUE=DATE:20250718
DTEND;VALUE=DATE:20250719
DTSTAMP:20260422T171841
CREATED:20250623T111645Z
LAST-MODIFIED:20250623T111645Z
UID:5551-1752796800-1752883199@comiteesceniques.org
SUMMARY:FRÀGIL\, de Cia. Maria Andrés
DESCRIPTION:FRÀGIL\nCia. Maria Andrés \nQuan: 18 de juliol\nOn: Centre Cultural La Bòbila (L’Hospitalet de Llobregat)\nInfo i reserves: Cia. Maria Andrés
URL:https://comiteesceniques.org/es/event/fragil-de-cia-maria-andres-12/
LOCATION:C C La Bòbila\, Plaça de la Bòbila\, 1\,\, L'Hospitalet de Llobregat\, Barcelona\, 08906\, Spain
CATEGORIES:Espectáculos
ATTACH;FMTTYPE=image/png:https://comiteesceniques.org/wp-content/uploads/2025/02/Captura-de-pantalla-2025-02-28-a-las-12.56.03.png
END:VEVENT
BEGIN:VEVENT
DTSTART;VALUE=DATE:20250718
DTEND;VALUE=DATE:20250803
DTSTAMP:20260422T171841
CREATED:20250718T082956Z
LAST-MODIFIED:20250718T084954Z
UID:5648-1752796800-1754179199@comiteesceniques.org
SUMMARY:AUDICIÓ “EL AGUANTE”\, de Víctor Sánchez Rodríguez
DESCRIPTION:AUDICIÓ “EL AGUANTE”\nEL AGUANTE és la nova producció teatral de l’IVC – Arts Escèniques\, escrita i dirigida per Víctor Sánchez Rodríguez. \nTé previstos els assajos del 15 de desembre de 2025 a l’11 de febrer de 2026. Amb funcions al Teatre Rialto de València del 12 de febrer a l’1 de març de 2026 i funcions al Teatre Principal de Castelló i al Teatre Arniches d’Alacant\, dates per determinar. \nBUSQUEN: \n\n2 ACTORS PROFESSIONALS AMB APARENÇA ENTRE 20 I 35 ANYS.\n2 ACTRIUS PROFESSIONALS AMB APARENÇA ENTRE 35 I 50 ANYS.\n1 ACTRIU PROFESSIONAL AMB APARENÇA SUPERIOR A 55 ANYS.\n\nEs valorarà positivament l’experiència en interpretació d’instruments musicals. \nInscripció fins el 2 d’agost de 2025. \nTota la informació ací. \n 
URL:https://comiteesceniques.org/es/event/5648/
CATEGORIES:Convocatoria
ATTACH;FMTTYPE=image/png:https://comiteesceniques.org/wp-content/uploads/2025/07/casting11.png
ORGANIZER;CN="Institut Valencia de Cutura":MAILTO:ivc@ivc.gva.es
END:VEVENT
BEGIN:VEVENT
DTSTART;VALUE=DATE:20250718
DTEND;VALUE=DATE:20250906
DTSTAMP:20260422T171841
CREATED:20250718T090242Z
LAST-MODIFIED:20250718T090242Z
UID:5658-1752796800-1757116799@comiteesceniques.org
SUMMARY:Convocatòria Danza a Escena 2026
DESCRIPTION:Convocatòria Danza a Escena 2026\nData límit: 5 setembre\, 2025 \nLa Red Española de Teatros\, Auditorios\, Circuitos y Festivales obri la convocatòria per a participar en Danza a Escena 2026. Les companyies professionals de dansa que desitgen concórrer a la convocatòria poden enviar la sol·licitud fins al 5 de setembre. Cada companyia podrà presentar un màxim de dues propostes que hagen sigut estrenats a partir de gener de 2022 (inclòs)\, el caixet del qual no excedisca els 8.000 euros + IVA. \nAccedeix a la convocatòria fent clic ací.
URL:https://comiteesceniques.org/es/event/convocatoria-danza-a-escena-2026/
CATEGORIES:Convocatoria
ATTACH;FMTTYPE=image/png:https://comiteesceniques.org/wp-content/uploads/2025/07/danza-a-escena.png
END:VEVENT
BEGIN:VEVENT
DTSTART;VALUE=DATE:20250718
DTEND;VALUE=DATE:20250910
DTSTAMP:20260422T171841
CREATED:20250718T085710Z
LAST-MODIFIED:20250718T085710Z
UID:5654-1752796800-1757462399@comiteesceniques.org
SUMMARY:Convocatòria artística per a dFERIA 2026
DESCRIPTION:Convocatòria artística per a dFERIA 2026\nData límit: 9 setembre\, 2025 \nDes del 9 de juliol i fins al 9 de setembre està oberta la convocatòria artística per a totes aquelles companyies de teatre i dansa interessades a participar en la pròxima edició dFERIA que presenten espectacles dirigits a públic jove i adult de recent creació. \nPots consultar les condicions d’inscripció estipulades (espectacles de recent creació) i emplenar el procés d’inscripció online. S’aconsella tindre a mà dades de l’espectacle i documentació a adjuntar: dossier\, fotos\, fitxa artística\, fitxa tècnica\, una altra documentació d’interés. \nAccedeix a la convocatòria fent clic ací.
URL:https://comiteesceniques.org/es/event/convocatoria-artistica-per-a-dferia-2026/
CATEGORIES:Convocatoria
ATTACH;FMTTYPE=image/png:https://comiteesceniques.org/wp-content/uploads/2025/07/dferia.png
END:VEVENT
BEGIN:VEVENT
DTSTART;VALUE=DATE:20250724
DTEND;VALUE=DATE:20250725
DTSTAMP:20260422T171841
CREATED:20250623T113040Z
LAST-MODIFIED:20250623T113040Z
UID:5568-1753315200-1753401599@comiteesceniques.org
SUMMARY:AU!\, de Cia. Maria Andrés
DESCRIPTION:AU! \n\nMaria Andrés \nQuan: 24 de juliol\nOn: Teatre Municipal Francesc Tàrrega (Benicàssim)\nInfo i reserves: Maria Andrés
URL:https://comiteesceniques.org/es/event/au-de-cia-maria-andres-2/
LOCATION:Teatre Municipal Francesc Tàrrega\, Plaça Constitució\, Benicàssim\, València\, 12560\, Spain
CATEGORIES:Espectáculos
ATTACH;FMTTYPE=image/png:https://comiteesceniques.org/wp-content/uploads/2025/05/au8.png
END:VEVENT
BEGIN:VEVENT
DTSTART;TZID=Europe/Madrid:20250727T130000
DTEND;TZID=Europe/Madrid:20250727T143000
DTSTAMP:20260422T171841
CREATED:20250626T093206Z
LAST-MODIFIED:20250626T093206Z
UID:5575-1753621200-1753626600@comiteesceniques.org
SUMMARY:FRÀGIL\, de Cia. Maria Andrés
DESCRIPTION:FRÀGIL\nCia. Maria Andrés \nQuan: 27 de juliol a les 13 h\nOn: Zeica Fest (Olba\, Terol)\nInfo i reserves: Zeica Fest
URL:https://comiteesceniques.org/es/event/fragil-de-cia-maria-andres-14/
LOCATION:Zeica Fest\, Olba\, Teruel\, 44479\, Spain
CATEGORIES:Espectáculos
ATTACH;FMTTYPE=image/png:https://comiteesceniques.org/wp-content/uploads/2025/02/Captura-de-pantalla-2025-02-28-a-las-12.56.03.png
END:VEVENT
END:VCALENDAR