BEGIN:VCALENDAR
VERSION:2.0
PRODID:-//Comitè Escèniques - ECPv6.15.12.2//NONSGML v1.0//EN
CALSCALE:GREGORIAN
METHOD:PUBLISH
X-ORIGINAL-URL:https://comiteesceniques.org/es/
X-WR-CALDESC:Eventos para Comitè Escèniques
REFRESH-INTERVAL;VALUE=DURATION:PT1H
X-Robots-Tag:noindex
X-PUBLISHED-TTL:PT1H
BEGIN:VTIMEZONE
TZID:Europe/Madrid
BEGIN:DAYLIGHT
TZOFFSETFROM:+0100
TZOFFSETTO:+0200
TZNAME:CEST
DTSTART:20230326T010000
END:DAYLIGHT
BEGIN:STANDARD
TZOFFSETFROM:+0200
TZOFFSETTO:+0100
TZNAME:CET
DTSTART:20231029T010000
END:STANDARD
BEGIN:DAYLIGHT
TZOFFSETFROM:+0100
TZOFFSETTO:+0200
TZNAME:CEST
DTSTART:20240331T010000
END:DAYLIGHT
BEGIN:STANDARD
TZOFFSETFROM:+0200
TZOFFSETTO:+0100
TZNAME:CET
DTSTART:20241027T010000
END:STANDARD
BEGIN:DAYLIGHT
TZOFFSETFROM:+0100
TZOFFSETTO:+0200
TZNAME:CEST
DTSTART:20250330T010000
END:DAYLIGHT
BEGIN:STANDARD
TZOFFSETFROM:+0200
TZOFFSETTO:+0100
TZNAME:CET
DTSTART:20251026T010000
END:STANDARD
END:VTIMEZONE
BEGIN:VEVENT
DTSTART;TZID=Europe/Madrid:20241025T203000
DTEND;TZID=Europe/Madrid:20241025T220000
DTSTAMP:20260420T095457
CREATED:20241022T115945Z
LAST-MODIFIED:20241022T120221Z
UID:4047-1729888200-1729893600@comiteesceniques.org
SUMMARY:HISTORIA DE UNA MAESTRA\, de Cactus Teatre
DESCRIPTION:HISTORIA DE UNA MAESTRA\, de Cactus Teatre. 25 d’octubre a les 20.30 h a l’Auditori La Colina de Sabiñánigo (Huesca).
URL:https://comiteesceniques.org/es/event/historia-de-una-maestra-de-cactus-teatre/
LOCATION:AUDITORIO LA COLINA\, SABIÑÁNIGO\, HUESCA\, 22600\, Spain
CATEGORIES:Espectáculos
ATTACH;FMTTYPE=image/jpeg:https://comiteesceniques.org/wp-content/uploads/2024/10/Historia-de-una-maestra-Cactus-Teatre-scaled.jpg
END:VEVENT
END:VCALENDAR