BEGIN:VCALENDAR
VERSION:2.0
PRODID:-//Comitè Escèniques - ECPv6.15.12.2//NONSGML v1.0//EN
CALSCALE:GREGORIAN
METHOD:PUBLISH
X-ORIGINAL-URL:https://comiteesceniques.org/es/
X-WR-CALDESC:Eventos para Comitè Escèniques
REFRESH-INTERVAL;VALUE=DURATION:PT1H
X-Robots-Tag:noindex
X-PUBLISHED-TTL:PT1H
BEGIN:VTIMEZONE
TZID:Europe/Madrid
BEGIN:DAYLIGHT
TZOFFSETFROM:+0100
TZOFFSETTO:+0200
TZNAME:CEST
DTSTART:20240331T010000
END:DAYLIGHT
BEGIN:STANDARD
TZOFFSETFROM:+0200
TZOFFSETTO:+0100
TZNAME:CET
DTSTART:20241027T010000
END:STANDARD
BEGIN:DAYLIGHT
TZOFFSETFROM:+0100
TZOFFSETTO:+0200
TZNAME:CEST
DTSTART:20250330T010000
END:DAYLIGHT
BEGIN:STANDARD
TZOFFSETFROM:+0200
TZOFFSETTO:+0100
TZNAME:CET
DTSTART:20251026T010000
END:STANDARD
BEGIN:DAYLIGHT
TZOFFSETFROM:+0100
TZOFFSETTO:+0200
TZNAME:CEST
DTSTART:20260329T010000
END:DAYLIGHT
BEGIN:STANDARD
TZOFFSETFROM:+0200
TZOFFSETTO:+0100
TZNAME:CET
DTSTART:20261025T010000
END:STANDARD
END:VTIMEZONE
BEGIN:VEVENT
DTSTART;TZID=Europe/Madrid:20250215T200000
DTEND;TZID=Europe/Madrid:20250215T213000
DTSTAMP:20260420T023256
CREATED:20250128T074425Z
LAST-MODIFIED:20250128T074425Z
UID:4559-1739649600-1739655000@comiteesceniques.org
SUMMARY:HISTORIA DE UNA MAESTRA\, de Cactus Teatre
DESCRIPTION:HISTORIA DE UNA MAESTRA\, de Cactus Teatre \n15 de febrer a les 20 h \nCasa de Cultura d’Enguera (Enguera\, València) \nInfo i reserves ací
URL:https://comiteesceniques.org/es/event/historia-de-una-maestra-de-cactus-teatre-4/
LOCATION:Casa de Cultura d’Enguera\, Pl. Manuel Tolsá\, s/n\, Enguera\, Valencia\, 46810\, Spain
CATEGORIES:Espectáculos
ATTACH;FMTTYPE=image/jpeg:https://comiteesceniques.org/wp-content/uploads/2024/10/Historia-de-una-maestra-Cactus-Teatre-scaled.jpg
END:VEVENT
END:VCALENDAR