BEGIN:VCALENDAR
VERSION:2.0
PRODID:-//Comitè Escèniques - ECPv6.15.12.2//NONSGML v1.0//EN
CALSCALE:GREGORIAN
METHOD:PUBLISH
X-ORIGINAL-URL:https://comiteesceniques.org/es/
X-WR-CALDESC:Eventos para Comitè Escèniques
REFRESH-INTERVAL;VALUE=DURATION:PT1H
X-Robots-Tag:noindex
X-PUBLISHED-TTL:PT1H
BEGIN:VTIMEZONE
TZID:Europe/Madrid
BEGIN:DAYLIGHT
TZOFFSETFROM:+0100
TZOFFSETTO:+0200
TZNAME:CEST
DTSTART:20230326T010000
END:DAYLIGHT
BEGIN:STANDARD
TZOFFSETFROM:+0200
TZOFFSETTO:+0100
TZNAME:CET
DTSTART:20231029T010000
END:STANDARD
BEGIN:DAYLIGHT
TZOFFSETFROM:+0100
TZOFFSETTO:+0200
TZNAME:CEST
DTSTART:20240331T010000
END:DAYLIGHT
BEGIN:STANDARD
TZOFFSETFROM:+0200
TZOFFSETTO:+0100
TZNAME:CET
DTSTART:20241027T010000
END:STANDARD
BEGIN:DAYLIGHT
TZOFFSETFROM:+0100
TZOFFSETTO:+0200
TZNAME:CEST
DTSTART:20250330T010000
END:DAYLIGHT
BEGIN:STANDARD
TZOFFSETFROM:+0200
TZOFFSETTO:+0100
TZNAME:CET
DTSTART:20251026T010000
END:STANDARD
END:VTIMEZONE
BEGIN:VEVENT
DTSTART;TZID=Europe/Madrid:20241026T000000
DTEND;TZID=Europe/Madrid:20241026T013000
DTSTAMP:20260420T022257
CREATED:20241022T114043Z
LAST-MODIFIED:20241022T114043Z
UID:4025-1729900800-1729906200@comiteesceniques.org
SUMMARY:GYMKHANA\, d'Aurora Diago
DESCRIPTION:GYMKHANA\, d’Aurora Diago. 26 d’octubre a les 12 h i a les 19.30 h a La Mutant (València).
URL:https://comiteesceniques.org/es/event/gymkhana-daurora-diago/
LOCATION:LA MUTANT\, Joan Verdeguer\, 22\, València\, València\, 46024\, Spain
CATEGORIES:Espectáculos
ATTACH;FMTTYPE=image/jpeg:https://comiteesceniques.org/wp-content/uploads/2024/10/Gymkhana_AURORA-DIAGO-scaled.jpg
END:VEVENT
BEGIN:VEVENT
DTSTART;TZID=Europe/Madrid:20241026T073000
DTEND;TZID=Europe/Madrid:20241026T213000
DTSTAMP:20260420T022257
CREATED:20241022T115718Z
LAST-MODIFIED:20241022T115718Z
UID:4045-1729927800-1729978200@comiteesceniques.org
SUMMARY:GYMKHANA\, d'Aurora Diago
DESCRIPTION:GYMKHANA\, d’Aurora Diago. 26 d’octubre a les 12 h i a les 19.30 h a La Mutant (València).
URL:https://comiteesceniques.org/es/event/gymkhana-daurora-diago-2/
LOCATION:LA MUTANT\, Joan Verdeguer\, 22\, València\, València\, 46024\, Spain
CATEGORIES:Espectáculos
ATTACH;FMTTYPE=image/jpeg:https://comiteesceniques.org/wp-content/uploads/2024/10/Gymkhana_AURORA-DIAGO-scaled.jpg
END:VEVENT
END:VCALENDAR