BEGIN:VCALENDAR
VERSION:2.0
PRODID:-//Comitè Escèniques - ECPv6.15.12.2//NONSGML v1.0//EN
CALSCALE:GREGORIAN
METHOD:PUBLISH
X-ORIGINAL-URL:https://comiteesceniques.org/es/
X-WR-CALDESC:Eventos para Comitè Escèniques
REFRESH-INTERVAL;VALUE=DURATION:PT1H
X-Robots-Tag:noindex
X-PUBLISHED-TTL:PT1H
BEGIN:VTIMEZONE
TZID:Europe/Madrid
BEGIN:DAYLIGHT
TZOFFSETFROM:+0100
TZOFFSETTO:+0200
TZNAME:CEST
DTSTART:20240331T010000
END:DAYLIGHT
BEGIN:STANDARD
TZOFFSETFROM:+0200
TZOFFSETTO:+0100
TZNAME:CET
DTSTART:20241027T010000
END:STANDARD
BEGIN:DAYLIGHT
TZOFFSETFROM:+0100
TZOFFSETTO:+0200
TZNAME:CEST
DTSTART:20250330T010000
END:DAYLIGHT
BEGIN:STANDARD
TZOFFSETFROM:+0200
TZOFFSETTO:+0100
TZNAME:CET
DTSTART:20251026T010000
END:STANDARD
BEGIN:DAYLIGHT
TZOFFSETFROM:+0100
TZOFFSETTO:+0200
TZNAME:CEST
DTSTART:20260329T010000
END:DAYLIGHT
BEGIN:STANDARD
TZOFFSETFROM:+0200
TZOFFSETTO:+0100
TZNAME:CET
DTSTART:20261025T010000
END:STANDARD
END:VTIMEZONE
BEGIN:VEVENT
DTSTART;TZID=Europe/Madrid:20250614T200000
DTEND;TZID=Europe/Madrid:20250614T213000
DTSTAMP:20260422T212009
CREATED:20250526T140723Z
LAST-MODIFIED:20250526T140723Z
UID:5363-1749931200-1749936600@comiteesceniques.org
SUMMARY:OSCURO-BRILLANTE\, de Gemma Miravet i Jor Camacho
DESCRIPTION:OSCURO-BRILLANTE\nGemma Miravet i Jor Camacho \nQuan: 14 de juny a les 20 h\nOn: C.C. La Reina (València)\nInfo i reserves: Oscuro-brillante
URL:https://comiteesceniques.org/es/event/oscuro-brillante-de-gemma-miravet-i-jor-camacho/
LOCATION:CC La Reina\, C/ de la Reina\, 121\, Valencia\, València\, 46011\, Spain
CATEGORIES:Espectáculos
ATTACH;FMTTYPE=image/png:https://comiteesceniques.org/wp-content/uploads/2025/05/oscuro_brillante_analaura-osses-Jor-Camacho-Tarraga.png
END:VEVENT
END:VCALENDAR