BEGIN:VCALENDAR
VERSION:2.0
PRODID:-//Comite - ECPv6.15.12.2//NONSGML v1.0//EN
CALSCALE:GREGORIAN
METHOD:PUBLISH
X-ORIGINAL-URL:https://comiteesceniques.org
X-WR-CALDESC:Esdeveniments per Comite
REFRESH-INTERVAL;VALUE=DURATION:PT1H
X-Robots-Tag:noindex
X-PUBLISHED-TTL:PT1H
BEGIN:VTIMEZONE
TZID:Europe/Madrid
BEGIN:DAYLIGHT
TZOFFSETFROM:+0100
TZOFFSETTO:+0200
TZNAME:CEST
DTSTART:20230326T010000
END:DAYLIGHT
BEGIN:STANDARD
TZOFFSETFROM:+0200
TZOFFSETTO:+0100
TZNAME:CET
DTSTART:20231029T010000
END:STANDARD
BEGIN:DAYLIGHT
TZOFFSETFROM:+0100
TZOFFSETTO:+0200
TZNAME:CEST
DTSTART:20240331T010000
END:DAYLIGHT
BEGIN:STANDARD
TZOFFSETFROM:+0200
TZOFFSETTO:+0100
TZNAME:CET
DTSTART:20241027T010000
END:STANDARD
BEGIN:DAYLIGHT
TZOFFSETFROM:+0100
TZOFFSETTO:+0200
TZNAME:CEST
DTSTART:20250330T010000
END:DAYLIGHT
BEGIN:STANDARD
TZOFFSETFROM:+0200
TZOFFSETTO:+0100
TZNAME:CET
DTSTART:20251026T010000
END:STANDARD
END:VTIMEZONE
BEGIN:VEVENT
DTSTART;TZID=Europe/Madrid:20240406T080000
DTEND;TZID=Europe/Madrid:20240406T170000
DTSTAMP:20260420T125645
CREATED:20240326T081206Z
LAST-MODIFIED:20240326T103311Z
UID:2880-1712390400-1712422800@comiteesceniques.org
SUMMARY:BUH!
DESCRIPTION:TEATRE DE L’ABAST\n6 de abril de 2024
URL:https://comiteesceniques.org/event/buh/
LOCATION:Algemesí
CATEGORIES:Espectacles
ATTACH;FMTTYPE=image/jpeg:https://comiteesceniques.org/wp-content/uploads/2024/03/BUH-Teatre-de-lAbast-scaled.jpg
END:VEVENT
BEGIN:VEVENT
DTSTART;VALUE=DATE:20240313
DTEND;VALUE=DATE:20240314
DTSTAMP:20260420T125645
CREATED:20250225T113601Z
LAST-MODIFIED:20250225T113601Z
UID:4787-1710288000-1710374399@comiteesceniques.org
SUMMARY:ECLIPSE TOTAL del Pont Flotant
DESCRIPTION:“Eclipse Total”\, de Pont Flotant.\nFuncións el 13 de març de 2025 a les 11 h (escolar) i a les 20 h al Teatre Gayarre de Pamplona.al Teatre Gayarre de Pamplona.\nMés informació i reserves a https://teatrogayarre.com/eclipse-total/\nVídeo promocional: https://www.youtube.com/watch?v=fbdd3oNtfvA\nWeb de la companyia: https://pontflotant.es/
URL:https://comiteesceniques.org/event/eclipse-total-del-pont-flotant/
LOCATION:Teatro Gayarre\, Fundación Municipal Teatro Gayarre Avda. Carlos III\, nº 3\, Pamplona\, Pamplona\, 31002\, Spain
CATEGORIES:Espectacles
ATTACH;FMTTYPE=image/jpeg:https://comiteesceniques.org/wp-content/uploads/2024/04/EclipsiTotal_©NereaColl_114-Pont-Flotant.jpg
END:VEVENT
BEGIN:VEVENT
DTSTART;TZID=Europe/Madrid:20240305T080000
DTEND;TZID=Europe/Madrid:20240321T170000
DTSTAMP:20260420T125645
CREATED:20240326T075336Z
LAST-MODIFIED:20240326T103316Z
UID:2863-1709625600-1711040400@comiteesceniques.org
SUMMARY:MÀRTIR
DESCRIPTION:Cía. SalaNegra + Inesperades Teatre\nDel 5 al 21 de Abril
URL:https://comiteesceniques.org/event/martir/
LOCATION:LAB Artea
CATEGORIES:Espectacles
END:VEVENT
END:VCALENDAR