BEGIN:VCALENDAR
VERSION:2.0
PRODID:-//Comite - ECPv6.15.12.2//NONSGML v1.0//EN
CALSCALE:GREGORIAN
METHOD:PUBLISH
X-WR-CALNAME:Comite
X-ORIGINAL-URL:https://comiteesceniques.org
X-WR-CALDESC:Esdeveniments per Comite
REFRESH-INTERVAL;VALUE=DURATION:PT1H
X-Robots-Tag:noindex
X-PUBLISHED-TTL:PT1H
BEGIN:VTIMEZONE
TZID:Europe/Madrid
BEGIN:DAYLIGHT
TZOFFSETFROM:+0100
TZOFFSETTO:+0200
TZNAME:CEST
DTSTART:20230326T010000
END:DAYLIGHT
BEGIN:STANDARD
TZOFFSETFROM:+0200
TZOFFSETTO:+0100
TZNAME:CET
DTSTART:20231029T010000
END:STANDARD
BEGIN:DAYLIGHT
TZOFFSETFROM:+0100
TZOFFSETTO:+0200
TZNAME:CEST
DTSTART:20240331T010000
END:DAYLIGHT
BEGIN:STANDARD
TZOFFSETFROM:+0200
TZOFFSETTO:+0100
TZNAME:CET
DTSTART:20241027T010000
END:STANDARD
BEGIN:DAYLIGHT
TZOFFSETFROM:+0100
TZOFFSETTO:+0200
TZNAME:CEST
DTSTART:20250330T010000
END:DAYLIGHT
BEGIN:STANDARD
TZOFFSETFROM:+0200
TZOFFSETTO:+0100
TZNAME:CET
DTSTART:20251026T010000
END:STANDARD
BEGIN:DAYLIGHT
TZOFFSETFROM:+0100
TZOFFSETTO:+0200
TZNAME:CEST
DTSTART:20260329T010000
END:DAYLIGHT
BEGIN:STANDARD
TZOFFSETFROM:+0200
TZOFFSETTO:+0100
TZNAME:CET
DTSTART:20261025T010000
END:STANDARD
END:VTIMEZONE
BEGIN:VEVENT
DTSTART;TZID=Europe/Madrid:20241211T193000
DTEND;TZID=Europe/Madrid:20241211T203000
DTSTAMP:20260419T171031
CREATED:20241206T133013Z
LAST-MODIFIED:20241206T133013Z
UID:4348-1733945400-1733949000@comiteesceniques.org
SUMMARY:A/TEMPORAL de Vicent Gisbert i Sandra Gómez
DESCRIPTION:A/TEMPORAL de Vicent Gisbert i Sandra Gómez\nQuan: 11 de desembre a les 19\,30 h.\nOn: La Mutant (València)
URL:https://comiteesceniques.org/event/a-temporal-de-vicent-gisbert-i-sandra-gomez/
LOCATION:LA MUTANT\, Joan Verdeguer\, 22\, València\, València\, 46024\, Spain
CATEGORIES:Espectacles
ATTACH;FMTTYPE=image/png:https://comiteesceniques.org/wp-content/uploads/2024/12/Captura-de-pantalla-2024-12-06-a-las-14.29.29.png
END:VEVENT
BEGIN:VEVENT
DTSTART;TZID=Europe/Madrid:20241211T080000
DTEND;TZID=Europe/Madrid:20241213T210000
DTSTAMP:20260419T171031
CREATED:20241206T132601Z
LAST-MODIFIED:20241206T132601Z
UID:4343-1733904000-1734123600@comiteesceniques.org
SUMMARY:ME DAN GANAS DE ESTAR FEA de Noelia Grasso
DESCRIPTION:ME DAN GANAS DE ESTAR FEA de Noelia Grasso\nQuan: De l’11 al 13 de desembre a les 20 h.\nOn: Teatro Círculo Benimaclet (València)\nInfo i reserves: II edició Círculo en Moviment \n \n 
URL:https://comiteesceniques.org/event/me-dan-ganas-de-estar-fea-de-noelia-grasso/
LOCATION:TEATRO CÍRCULO\, Calle Prudenci Alcón i Mateu 3\, bajo izq.\, València\, València\, 46020\, Spain
CATEGORIES:Espectacles
ATTACH;FMTTYPE=image/png:https://comiteesceniques.org/wp-content/uploads/2024/12/Captura-de-pantalla-2024-12-06-a-las-14.25.19.png
END:VEVENT
BEGIN:VEVENT
DTSTART;TZID=Europe/Madrid:20241210T100000
DTEND;TZID=Europe/Madrid:20241213T140000
DTSTAMP:20260419T171031
CREATED:20241206T132112Z
LAST-MODIFIED:20241206T132112Z
UID:4335-1733824800-1734098400@comiteesceniques.org
SUMMARY:TALLER D'ESCRIPTURA INTERGENERACIONAL per Patrícia Pardo i Alexander Lemus
DESCRIPTION:TALLER D’ESCRIPTURA INTERGENERACIONAL per Patrícia Pardo i Alexander Lemus\nQuan: Del 10 al 13 de desembre de 10 h a 14 h\nOn: L’Escorxador (Cabanyal\, València)\nInfo i reserves: escriptoresiescriptorsteatrals@gmail.com
URL:https://comiteesceniques.org/event/taller-descriptura-intergeneracional-per-patricia-pardo-i-alexander-lemus/
LOCATION:L’Escorxador\, Calle Sant Pere\, 35-37\, Valencia\, Valencia\, 46011\, Spain
CATEGORIES:Formació
ATTACH;FMTTYPE=image/png:https://comiteesceniques.org/wp-content/uploads/2024/12/Captura-de-pantalla-2024-12-06-a-las-14.20.04.png
END:VEVENT
BEGIN:VEVENT
DTSTART;TZID=Europe/Madrid:20241208T120000
DTEND;TZID=Europe/Madrid:20241208T130000
DTSTAMP:20260419T171031
CREATED:20241206T130933Z
LAST-MODIFIED:20241206T131340Z
UID:4330-1733659200-1733662800@comiteesceniques.org
SUMMARY:LA ISLA DEL TESORO de La Inestable de Títeres
DESCRIPTION:LA ISLA DEL TESORO de La Inestable de Títeres\nQuan: 08 de desembre a les 12 h\nOn: Festitíteres (Alacant)
URL:https://comiteesceniques.org/event/la-isla-del-tesoro-de-la-inestable-de-titeres/
LOCATION:València
CATEGORIES:Espectacles
ATTACH;FMTTYPE=image/png:https://comiteesceniques.org/wp-content/uploads/2024/12/Captura-de-pantalla-2024-12-06-a-las-14.12.24.png
END:VEVENT
BEGIN:VEVENT
DTSTART;TZID=Europe/Madrid:20241208T000000
DTEND;TZID=Europe/Madrid:20241208T000000
DTSTAMP:20260419T171031
CREATED:20241206T122629Z
LAST-MODIFIED:20241206T122629Z
UID:4297-1733616000-1733616000@comiteesceniques.org
SUMMARY:PLÀSTIC\, de La Família Política
DESCRIPTION:PLÀSTIC\, de La Família Política\n8 de desembre en Vallés (València)\n \n  \n 
URL:https://comiteesceniques.org/event/plastic-de-la-familia-politica-2/
LOCATION:València
CATEGORIES:Espectacles
ATTACH;FMTTYPE=image/jpeg:https://comiteesceniques.org/wp-content/uploads/2024/10/PLASTICLafamiliapolitica-La-Familia-Politica-scaled.jpg
ORGANIZER;CN="La Fam%C3%ADlia Pol%C3%ADtica":MAILTO:lafamiliapolitica.cia@gmail.com
END:VEVENT
BEGIN:VEVENT
DTSTART;TZID=Europe/Madrid:20241207T190000
DTEND;TZID=Europe/Madrid:20241207T220000
DTSTAMP:20260419T171031
CREATED:20241206T121122Z
LAST-MODIFIED:20241206T122306Z
UID:4291-1733598000-1733608800@comiteesceniques.org
SUMMARY:HISTORIA DE UNA MAESTRA\, de Cactus Teatre
DESCRIPTION:HISTORIA DE UNA MAESTRA\, de Cactus Teatre. \n7 de desembre a les 19h en Sala Corral de García (Santa Eulalia de Gállego\, Zaragoza)
URL:https://comiteesceniques.org/event/historia-de-una-maestra-de-cactus-teatre-2/
LOCATION:Sala Corral de García\, Cam. Tejar\, 1\, 22806 Santa Eulalia de Gállego\, Zaragoza\, Zaragoza\, Aragón\, 22806\, Spain
CATEGORIES:Espectacles
ATTACH;FMTTYPE=image/jpeg:https://comiteesceniques.org/wp-content/uploads/2024/10/Historia-de-una-maestra-Cactus-Teatre-scaled.jpg
END:VEVENT
BEGIN:VEVENT
DTSTART;TZID=Europe/Madrid:20241206T200000
DTEND;TZID=Europe/Madrid:20241208T210000
DTSTAMP:20260419T171031
CREATED:20241206T130204Z
LAST-MODIFIED:20241206T130248Z
UID:4317-1733515200-1733691600@comiteesceniques.org
SUMMARY:COSES QUE SONEN de Sandra Gómez
DESCRIPTION:COSES QUE SONEN de Sandra Gómez\n06\, 07 i 08 de desembre a les 20 h en Teatro Ensalle (Vigo)
URL:https://comiteesceniques.org/event/coses-que-sonen-de-sandra-gomez/
LOCATION:Teatro Ensalle\, Teatro Ensalle C/ Chile\, 15 Bajo\, Vigo\, Pontevedra\, 36202\, Spain
CATEGORIES:Espectacles
ATTACH;FMTTYPE=image/png:https://comiteesceniques.org/wp-content/uploads/2024/12/Captura-de-pantalla-2024-12-06-a-las-14.00.45.png
END:VEVENT
BEGIN:VEVENT
DTSTART;TZID=Europe/Madrid:20241206T190000
DTEND;TZID=Europe/Madrid:20241206T220000
DTSTAMP:20260419T171031
CREATED:20241206T121528Z
LAST-MODIFIED:20241206T121528Z
UID:4294-1733511600-1733522400@comiteesceniques.org
SUMMARY:HISTORIA DE UNA MAESTRA\, de Cactus Teatre
DESCRIPTION:HISTORIA DE UNA MAESTRA\, de Cactus Teatre. \n06 de desembre a les 19 h en Utebo (Zaragoza)
URL:https://comiteesceniques.org/event/historia-de-una-maestra-de-cactus-teatre-3/
LOCATION:Utebo\, Teatro Miguel Fleta Paseo Berbegal\, 22\, utebo\, zaragoza\, Spain
CATEGORIES:Espectacles
ATTACH;FMTTYPE=image/jpeg:https://comiteesceniques.org/wp-content/uploads/2024/10/Historia-de-una-maestra-Cactus-Teatre-scaled.jpg
END:VEVENT
BEGIN:VEVENT
DTSTART;VALUE=DATE:20241206
DTEND;VALUE=DATE:20241209
DTSTAMP:20260419T171031
CREATED:20241206T130712Z
LAST-MODIFIED:20241206T130712Z
UID:4324-1733443200-1733702399@comiteesceniques.org
SUMMARY:VII FIRA DE TEATRE BREU\, La Ravalera
DESCRIPTION:VII FIRA DE TEATRE BREU\, La Ravalera\nQuan: 06\, 07 i 08 de desembre\nOn: Facultat de Ciències Humanes\, UJI -Universitat Jaume I- (Castelló)
URL:https://comiteesceniques.org/event/vii-fira-de-teatre-breu-la-ravalera/
LOCATION:UJI (Universitat Jaume I)\, Avinguda de Vicent Sos Baynat\, s/n\, Castelló de la Plana\, Castelló\, 12006\, Spain
CATEGORIES:Espectacles
ATTACH;FMTTYPE=image/png:https://comiteesceniques.org/wp-content/uploads/2024/12/Captura-de-pantalla-2024-12-06-a-las-14.06.08.png
END:VEVENT
BEGIN:VEVENT
DTSTART;TZID=Europe/Madrid:20241205T190000
DTEND;TZID=Europe/Madrid:20241208T200000
DTSTAMP:20260419T171031
CREATED:20241206T125407Z
LAST-MODIFIED:20241206T125609Z
UID:4314-1733425200-1733688000@comiteesceniques.org
SUMMARY:EL PROBLEMA DE LOS SOMBREROS\, de Carme Teatre
DESCRIPTION:EL PROBLEMA DE LOS SOMBREROS\, de Carme Teatre \n01 de desembre a les 19 h + 05\, 06 i 07 de desembre a les 20 h + 08 de desembre a les 19h en Sala Carme Teatre (València)
URL:https://comiteesceniques.org/event/el-problema-de-los-sombreros-de-carme-teatre-2/
LOCATION:SALA CARME TEATRE
CATEGORIES:Espectacles
ATTACH;FMTTYPE=image/png:https://comiteesceniques.org/wp-content/uploads/2024/12/Captura-de-pantalla-2024-12-06-a-las-13.52.13.png
END:VEVENT
BEGIN:VEVENT
DTSTART;TZID=Europe/Madrid:20241205T120000
DTEND;TZID=Europe/Madrid:20250131T170000
DTSTAMP:20260419T171031
CREATED:20241205T122835Z
LAST-MODIFIED:20241205T123303Z
UID:4280-1733400000-1738342800@comiteesceniques.org
SUMMARY:Ajudes sense barreres\, Caixa Popular
DESCRIPTION:Tancament: Fins al 31 de gener de 2025\nCaixa Popular presenta la quarta edició de les ajudes ‘Sense Barreres’\, una convocatòria destinada a promoure projectes que fomenten la igualtat i la inclusió de les persones amb discapacitat.\n\nEn aquesta nova convocatòria\, la dotació econòmica s’amplia significativament\, aconseguint els 30.000 €\, triplicant la quantitat de l’edició anterior\, que es distribuiran en 6 ajudes:\n– 2 ajudes de 8.000€\n– 2 ajudes de 5.000€\n– 2 ajudes de 2.000€\n\nAquesta convocatòria és per a totes les entitats socials que desenvolupen projectes centrats en la inclusió\, la igualtat i el suport a les persones amb discapacitat a la Comunitat Valenciana.\n\nLes sol·licituds es poden presentar fins al 31 de gener de 2025 a través del formulari que apareix a continuació.\nhttps://www.caixapopular.es/sites/default/files/ayudas_premios/Sense%20Barreres/Formulario_Sense_Barreres_CAS.pdf\n\nPer a formalitzar la sol·licitud\, és necessari adjuntar el formulari i\, de manera opcional\, una memòria del projecte.\n\nConsulta les bases de la convocatòria ací.
URL:https://comiteesceniques.org/event/ajudes-sense-barreres-caixa-popular/
LOCATION:València
CATEGORIES:Convocatòries
ATTACH;FMTTYPE=image/png:https://comiteesceniques.org/wp-content/uploads/2024/12/Captura-de-pantalla-2024-12-05-a-las-13.25.29.png
END:VEVENT
BEGIN:VEVENT
DTSTART;TZID=Europe/Madrid:20241204T200000
DTEND;TZID=Europe/Madrid:20241204T213000
DTSTAMP:20260419T171031
CREATED:20241206T120540Z
LAST-MODIFIED:20241206T120611Z
UID:4289-1733342400-1733347800@comiteesceniques.org
SUMMARY:COS SER I CANTAR\, de Cia Dunatacà
DESCRIPTION:COS SER I CANTAR\, de Cia Dunatacà\n4 de desembre a les 20 h al Teatre Talia (València) \nEmmarcat dins de Graners de Creació \nhttps://www.ciadunataca.com/ \n  \n 
URL:https://comiteesceniques.org/event/cos-ser-i-cantar-de-cia-dunataca-2/
LOCATION:Teatre Talia\, València\, València\, Espanya
CATEGORIES:Espectacles
ATTACH;FMTTYPE=image/jpeg:https://comiteesceniques.org/wp-content/uploads/2024/10/cos-ser-i-cantar-Cia-Dunataca-Cia.Dunataca-dansa-teatre-scaled.jpg
END:VEVENT
BEGIN:VEVENT
DTSTART;TZID=Europe/Madrid:20241201T190000
DTEND;TZID=Europe/Madrid:20241201T203000
DTSTAMP:20260419T171031
CREATED:20241029T102225Z
LAST-MODIFIED:20241029T102225Z
UID:4170-1733079600-1733085000@comiteesceniques.org
SUMMARY:ADOLESCÈNCIA INFINITA\, de Pont Flotant
DESCRIPTION:ADOLESCÈNCIA INFINITA\, de Pont Flotant\nDel 21 de novembre a l’1 de desembre. Funcions de dijous a diumenge a les 19h.\nNau Ribes de València – Teatre Escalante \nInici \n \n 
URL:https://comiteesceniques.org/event/adolescencia-infinita-de-pont-flotant-8/
LOCATION:NAUS RIBES\, Parque Central\, València\, València\, Spain
CATEGORIES:Espectacles
ATTACH;FMTTYPE=image/jpeg:https://comiteesceniques.org/wp-content/uploads/2024/10/Adolescencia_Infinita_PONT_FLOTANT-Pont-Flotant-scaled.jpg
END:VEVENT
BEGIN:VEVENT
DTSTART;TZID=Europe/Madrid:20241201T190000
DTEND;TZID=Europe/Madrid:20241201T200000
DTSTAMP:20260419T171031
CREATED:20241206T125300Z
LAST-MODIFIED:20241206T125708Z
UID:4310-1733079600-1733083200@comiteesceniques.org
SUMMARY:EL PROBLEMA DE LOS SOMBREROS\, de Carme Teatre
DESCRIPTION:EL PROBLEMA DE LOS SOMBREROS\, de Carme Teatre \n01 de desembre a les 19 h + 05\, 06 i 07 de desembre a les 20 h + 08 de desembre a les 19h en Sala Carme Teatre (València)
URL:https://comiteesceniques.org/event/el-problema-de-los-sombreros-de-carme-teatre/
LOCATION:SALA CARME TEATRE
CATEGORIES:Espectacles
ATTACH;FMTTYPE=image/png:https://comiteesceniques.org/wp-content/uploads/2024/12/Captura-de-pantalla-2024-12-06-a-las-13.52.13.png
END:VEVENT
BEGIN:VEVENT
DTSTART;TZID=Europe/Madrid:20241201T183000
DTEND;TZID=Europe/Madrid:20241201T193000
DTSTAMP:20260419T171031
CREATED:20241206T124502Z
LAST-MODIFIED:20241206T124935Z
UID:4304-1733077800-1733081400@comiteesceniques.org
SUMMARY:BOREAL\, de La Família Política
DESCRIPTION:BOREAL\, de La Família Política\n01 de desembre a les 18:30 h en Corbera (Corbera\, València)\n \n  \n 
URL:https://comiteesceniques.org/event/boreal-de-la-familia-politica/
LOCATION:València
CATEGORIES:Espectacles
ATTACH;FMTTYPE=image/png:https://comiteesceniques.org/wp-content/uploads/2024/12/Captura-de-pantalla-2024-12-06-a-las-13.44.13.png
ORGANIZER;CN="La Fam%C3%ADlia Pol%C3%ADtica":MAILTO:lafamiliapolitica.cia@gmail.com
END:VEVENT
BEGIN:VEVENT
DTSTART;TZID=Europe/Madrid:20241130T190000
DTEND;TZID=Europe/Madrid:20241130T203000
DTSTAMP:20260419T171031
CREATED:20241029T102158Z
LAST-MODIFIED:20241029T102158Z
UID:4168-1732993200-1732998600@comiteesceniques.org
SUMMARY:ADOLESCÈNCIA INFINITA\, de Pont Flotant
DESCRIPTION:ADOLESCÈNCIA INFINITA\, de Pont Flotant\nDel 21 de novembre a l’1 de desembre. Funcions de dijous a diumenge a les 19h.\nNau Ribes de València – Teatre Escalante \nInici \n \n 
URL:https://comiteesceniques.org/event/adolescencia-infinita-de-pont-flotant-7/
LOCATION:NAUS RIBES\, Parque Central\, València\, València\, Spain
CATEGORIES:Espectacles
ATTACH;FMTTYPE=image/jpeg:https://comiteesceniques.org/wp-content/uploads/2024/10/Adolescencia_Infinita_PONT_FLOTANT-Pont-Flotant-scaled.jpg
END:VEVENT
BEGIN:VEVENT
DTSTART;TZID=Europe/Madrid:20241130T190000
DTEND;TZID=Europe/Madrid:20241130T203000
DTSTAMP:20260419T171031
CREATED:20241024T150458Z
LAST-MODIFIED:20241024T150458Z
UID:4099-1732993200-1732998600@comiteesceniques.org
SUMMARY:LA DONA SOLA\, de Pilar Rochina
DESCRIPTION:LA DONA SOLA\, de Pilar Rochina\n30 de novembre a les 19 h\nCasinos (València)\nUnión Musical Casinense
URL:https://comiteesceniques.org/event/la-dona-sola-de-pilar-rochina-2/
LOCATION:Unión Musical Casinense\, Calle Cervantes\, 10\, Casinos\, Valencia\, 46171\, Spain
CATEGORIES:Espectacles
ATTACH;FMTTYPE=image/jpeg:https://comiteesceniques.org/wp-content/uploads/2024/10/LA-DONA-SOLA_PILAR-ROCHINA-scaled.jpg
END:VEVENT
BEGIN:VEVENT
DTSTART;TZID=Europe/Madrid:20241130T091500
DTEND;TZID=Europe/Madrid:20241130T180000
DTSTAMP:20260419T171031
CREATED:20241029T105215Z
LAST-MODIFIED:20241031T103346Z
UID:4201-1732958100-1732989600@comiteesceniques.org
SUMMARY:TALLER "MI SOMBRA\, MI LUZ"\, amb Teatres de la Llum
DESCRIPTION:TALLER “MI SOMBRA\, MI LUZ”\, amb Teatres de la Llum\n29 de novembre: 17’30 h – 20’00 h / 30 de novembre 09’15 h – 18’00 h\nCasa de la Cultura d’Onda (Onda\, Castelló) \nGratuït amb inscripció en Area de Igualdad Onda: mruiz@onda.es \nEscuela de Igualdad de Onda para la prevención de la violencia de genero. \n 
URL:https://comiteesceniques.org/event/taller-mi-sombra-mi-luz-amb-teatres-de-la-llum-2/
LOCATION:CASA DE LA CULTURA ONDA\, Carrer Balmes 2\, Onda\, Castelló\, 12200\, Spain
CATEGORIES:Formació
ATTACH;FMTTYPE=image/png:https://comiteesceniques.org/wp-content/uploads/2024/10/Teatres-de-la-Llum-_-MI-SOMBRA-MI-LUZ-Teatres-de-la-Llum.png
END:VEVENT
BEGIN:VEVENT
DTSTART;TZID=Europe/Madrid:20241129T190000
DTEND;TZID=Europe/Madrid:20241129T203000
DTSTAMP:20260419T171031
CREATED:20241029T102106Z
LAST-MODIFIED:20241029T102106Z
UID:4166-1732906800-1732912200@comiteesceniques.org
SUMMARY:ADOLESCÈNCIA INFINITA\, de Pont Flotant
DESCRIPTION:ADOLESCÈNCIA INFINITA\, de Pont Flotant\nDel 21 de novembre a l’1 de desembre. Funcions de dijous a diumenge a les 19h.\nNau Ribes de València – Teatre Escalante \nInici \n \n 
URL:https://comiteesceniques.org/event/adolescencia-infinita-de-pont-flotant-6/
LOCATION:NAUS RIBES\, Parque Central\, València\, València\, Spain
CATEGORIES:Espectacles
ATTACH;FMTTYPE=image/jpeg:https://comiteesceniques.org/wp-content/uploads/2024/10/Adolescencia_Infinita_PONT_FLOTANT-Pont-Flotant-scaled.jpg
END:VEVENT
BEGIN:VEVENT
DTSTART;TZID=Europe/Madrid:20241129T173000
DTEND;TZID=Europe/Madrid:20241129T200000
DTSTAMP:20260419T171031
CREATED:20241029T104835Z
LAST-MODIFIED:20241031T103421Z
UID:4193-1732901400-1732910400@comiteesceniques.org
SUMMARY:TALLER "MI SOMBRA\, MI LUZ"\, amb Teatres de la Llum
DESCRIPTION:TALLER “MI SOMBRA\, MI LUZ”\, amb Teatres de la Llum\n29 de novembre: 17’30 h – 20’00 h / 30 de novembre 09’15 h – 18’00 h\nCasa de la Cultura d’Onda (Onda\, Castelló) \nGratuït amb inscripció en Area de Igualdad Onda: mruiz@onda.es \nEscuela de Igualdad de Onda para la prevención de la violencia de genero. \n 
URL:https://comiteesceniques.org/event/taller-mi-sombra-mi-luz-amb-teatres-de-la-llum/
LOCATION:CASA DE LA CULTURA ONDA\, Carrer Balmes 2\, Onda\, Castelló\, 12200\, Spain
CATEGORIES:Formació
ATTACH;FMTTYPE=image/png:https://comiteesceniques.org/wp-content/uploads/2024/10/Teatres-de-la-Llum-_-MI-SOMBRA-MI-LUZ-Teatres-de-la-Llum.png
END:VEVENT
BEGIN:VEVENT
DTSTART;TZID=Europe/Madrid:20241128T190000
DTEND;TZID=Europe/Madrid:20241128T203000
DTSTAMP:20260419T171031
CREATED:20241029T102036Z
LAST-MODIFIED:20241029T102036Z
UID:4164-1732820400-1732825800@comiteesceniques.org
SUMMARY:ADOLESCÈNCIA INFINITA\, de Pont Flotant
DESCRIPTION:ADOLESCÈNCIA INFINITA\, de Pont Flotant\nDel 21 de novembre a l’1 de desembre. Funcions de dijous a diumenge a les 19h.\nNau Ribes de València – Teatre Escalante \nInici \n \n 
URL:https://comiteesceniques.org/event/adolescencia-infinita-de-pont-flotant-5/
LOCATION:NAUS RIBES\, Parque Central\, València\, València\, Spain
CATEGORIES:Espectacles
ATTACH;FMTTYPE=image/jpeg:https://comiteesceniques.org/wp-content/uploads/2024/10/Adolescencia_Infinita_PONT_FLOTANT-Pont-Flotant-scaled.jpg
END:VEVENT
BEGIN:VEVENT
DTSTART;TZID=Europe/Madrid:20241124T190000
DTEND;TZID=Europe/Madrid:20241124T203000
DTSTAMP:20260419T171031
CREATED:20241029T101932Z
LAST-MODIFIED:20241029T101932Z
UID:4162-1732474800-1732480200@comiteesceniques.org
SUMMARY:ADOLESCÈNCIA INFINITA\, de Pont Flotant
DESCRIPTION:ADOLESCÈNCIA INFINITA\, de Pont Flotant\nDel 21 de novembre a l’1 de desembre. Funcions de dijous a diumenge a les 19h.\nNau Ribes de València – Teatre Escalante \nInici \n \n 
URL:https://comiteesceniques.org/event/adolescencia-infinita-de-pont-flotant-4/
LOCATION:NAUS RIBES\, Parque Central\, València\, València\, Spain
CATEGORIES:Espectacles
ATTACH;FMTTYPE=image/jpeg:https://comiteesceniques.org/wp-content/uploads/2024/10/Adolescencia_Infinita_PONT_FLOTANT-Pont-Flotant-scaled.jpg
END:VEVENT
BEGIN:VEVENT
DTSTART;TZID=Europe/Madrid:20241123T190000
DTEND;TZID=Europe/Madrid:20241123T203000
DTSTAMP:20260419T171031
CREATED:20241029T101903Z
LAST-MODIFIED:20241029T101903Z
UID:4160-1732388400-1732393800@comiteesceniques.org
SUMMARY:ADOLESCÈNCIA INFINITA\, de Pont Flotant
DESCRIPTION:ADOLESCÈNCIA INFINITA\, de Pont Flotant\nDel 21 de novembre a l’1 de desembre. Funcions de dijous a diumenge a les 19h.\nNau Ribes de València – Teatre Escalante \nInici \n \n 
URL:https://comiteesceniques.org/event/adolescencia-infinita-de-pont-flotant-3/
LOCATION:NAUS RIBES\, Parque Central\, València\, València\, Spain
CATEGORIES:Espectacles
ATTACH;FMTTYPE=image/jpeg:https://comiteesceniques.org/wp-content/uploads/2024/10/Adolescencia_Infinita_PONT_FLOTANT-Pont-Flotant-scaled.jpg
END:VEVENT
BEGIN:VEVENT
DTSTART;TZID=Europe/Madrid:20241122T190000
DTEND;TZID=Europe/Madrid:20241122T203000
DTSTAMP:20260419T171031
CREATED:20241029T101835Z
LAST-MODIFIED:20241029T101835Z
UID:4158-1732302000-1732307400@comiteesceniques.org
SUMMARY:ADOLESCÈNCIA INFINITA\, de Pont Flotant
DESCRIPTION:ADOLESCÈNCIA INFINITA\, de Pont Flotant\nDel 21 de novembre a l’1 de desembre. Funcions de dijous a diumenge a les 19h.\nNau Ribes de València – Teatre Escalante \nInici \n \n 
URL:https://comiteesceniques.org/event/adolescencia-infinita-de-pont-flotant-2/
LOCATION:NAUS RIBES\, Parque Central\, València\, València\, Spain
CATEGORIES:Espectacles
ATTACH;FMTTYPE=image/jpeg:https://comiteesceniques.org/wp-content/uploads/2024/10/Adolescencia_Infinita_PONT_FLOTANT-Pont-Flotant-scaled.jpg
END:VEVENT
BEGIN:VEVENT
DTSTART;TZID=Europe/Madrid:20241121T190000
DTEND;TZID=Europe/Madrid:20241121T203000
DTSTAMP:20260419T171031
CREATED:20241029T101437Z
LAST-MODIFIED:20241029T101437Z
UID:4150-1732215600-1732221000@comiteesceniques.org
SUMMARY:ADOLESCÈNCIA INFINITA\, de Pont Flotant
DESCRIPTION:ADOLESCÈNCIA INFINITA\, de Pont Flotant\nDel 21 de novembre a l’1 de desembre. Funcions de dijous a diumenge a les 19h.\nNau Ribes de València – Teatre Escalante \nInici \n \n 
URL:https://comiteesceniques.org/event/adolescencia-infinita-de-pont-flotant/
LOCATION:NAUS RIBES\, Parque Central\, València\, València\, Spain
CATEGORIES:Espectacles
ATTACH;FMTTYPE=image/jpeg:https://comiteesceniques.org/wp-content/uploads/2024/10/Adolescencia_Infinita_PONT_FLOTANT-Pont-Flotant-scaled.jpg
END:VEVENT
BEGIN:VEVENT
DTSTART;TZID=Europe/Madrid:20241117T190000
DTEND;TZID=Europe/Madrid:20241117T203000
DTSTAMP:20260419T171031
CREATED:20241031T104303Z
LAST-MODIFIED:20241031T104303Z
UID:4211-1731870000-1731875400@comiteesceniques.org
SUMMARY:L'ABRAÇADA DELS CUCS\, de Cactus Teatre
DESCRIPTION:L’ABRAÇADA DELS CUCS\, de Cactus Teatre\nQuan: 17 de novembre a les 19 h.\nOn: Teatre Municipal Francesc Tàrrega (Benicàssim\, Castelló)\nInfo i reserves: Cultura Benicàssim
URL:https://comiteesceniques.org/event/labracada-dels-cucs-de-cactus-teatre/
LOCATION:València
CATEGORIES:Espectacles
ATTACH;FMTTYPE=image/jpeg:https://comiteesceniques.org/wp-content/uploads/2023/09/CACTUS-TEATRE_Labracada-dels-cucs.jpg
END:VEVENT
BEGIN:VEVENT
DTSTART;TZID=Europe/Madrid:20241116T200000
DTEND;TZID=Europe/Madrid:20241116T213000
DTSTAMP:20260419T171031
CREATED:20241029T103316Z
LAST-MODIFIED:20241029T103524Z
UID:4179-1731787200-1731792600@comiteesceniques.org
SUMMARY:COS SER I CANTAR\, de Cia Dunatacà
DESCRIPTION:COS SER I CANTAR\, de Cia Dunatacà\n16 de novembre a les 20 h al Teatre Auditori de Catarroja (Catarroja\, València) \nEmmarcat dins de Graners de Creació \nhttps://www.ciadunataca.com/ \n  \n 
URL:https://comiteesceniques.org/event/cos-ser-i-cantar-de-cia-dunataca/
LOCATION:TAC CATARROJA
CATEGORIES:Espectacles
ATTACH;FMTTYPE=image/jpeg:https://comiteesceniques.org/wp-content/uploads/2024/10/cos-ser-i-cantar-Cia-Dunataca-Cia.Dunataca-dansa-teatre-scaled.jpg
END:VEVENT
BEGIN:VEVENT
DTSTART;TZID=Europe/Madrid:20241116T100000
DTEND;TZID=Europe/Madrid:20241116T140000
DTSTAMP:20260419T171031
CREATED:20241029T095608Z
LAST-MODIFIED:20241029T095608Z
UID:4139-1731751200-1731765600@comiteesceniques.org
SUMMARY:TALLER TEATRE IMATGE\, amb Rocambolesc Teatre
DESCRIPTION:TALLER TEATRE IMATGE\, impartit per Rocambolesc Teatre\nQuan: Dissabtes 9 i 16 de novembre de 2024\, de 10h a 14h\nOn: Local Rocambolesc (Barri Algirós de València)\nTaller especialment per a persones que treballen amb joves o en sectors educatius.
URL:https://comiteesceniques.org/event/taller-teatre-imatge-amb-rocambolesc-teatre-2/
LOCATION:LOCAL ROCAMBOLESC\, València\, València\, 46021\, Spain
CATEGORIES:Formació
ATTACH;FMTTYPE=image/png:https://comiteesceniques.org/wp-content/uploads/2024/10/TEATRE-IMATGE-ROCAMBOLESC-tEATRE-Rocambolesc-Teatre.png
END:VEVENT
BEGIN:VEVENT
DTSTART;TZID=Europe/Madrid:20241115T170000
DTEND;TZID=Europe/Madrid:20241115T183000
DTSTAMP:20260419T171031
CREATED:20241024T151043Z
LAST-MODIFIED:20241024T151043Z
UID:4104-1731690000-1731695400@comiteesceniques.org
SUMMARY:"El meu amic\, Nicolau Primitiu" de Pilar Rochina
DESCRIPTION:El meu amic\, Nicolau Primitiu\, de Pilar Rochina\n15 de novembre\nL’Hort del Senabre – Plaça Segovia (València)\nCultura als barris
URL:https://comiteesceniques.org/event/el-meu-amic-nicolau-primitiu-de-pilar-rochina/
LOCATION:L’Hort del Senabre\, Plaça Segovia\, València\, València\, 46017\, Spain
CATEGORIES:Espectacles
ATTACH;FMTTYPE=image/jpeg:https://comiteesceniques.org/wp-content/uploads/2024/10/P_Rochina_Cultura_als_Barris_NPrimitiu.jpg
END:VEVENT
BEGIN:VEVENT
DTSTART;TZID=Europe/Madrid:20241115T120000
DTEND;TZID=Europe/Madrid:20241122T170000
DTSTAMP:20260419T171031
CREATED:20241115T160747Z
LAST-MODIFIED:20241115T160747Z
UID:4265-1731672000-1732294800@comiteesceniques.org
SUMMARY:Convocatòria Emergència DANA per a Entitats Socials\, de Fundació La Caixa
DESCRIPTION:Convocatòria Emergència DANA per a Entitats Socials\, de Fundació La Caixa\nObertura: 15 de novembre de 2024\, a les 12 h\nTancament: La convocatòria finalitzarà en el moment en què s’esgote  la dotació prevista\nAquesta convocatòria extraordinària pretén contribuir a mitigar i revertir la situació d’emergència  que viu la Comunitat Valenciana\, en concret la província de València i les zones afectades per la DANA\, a través del suport  a les entitats socials del territori. \nLa convocatòria té com a finalitat fer costat a les entitats socials que plantegen desenvolupar intervencions d’emergència\, dirigides especialment a persones o entitats que es troben en situacions de vulnerabilitat social en les zones afectades per la DANA\, a la província de València i definides en el reial decret llei 6/2024\, del 5  de novembre (BOE-A-2024-22928). \nEls projectes han d’emmarcar-se en les següents línies d’intervenció\, responent a necessitats immediates a conseqüència de la situació actual. \n\nCondicionament o reparació de les infraestructures i/o equipament de la seu de l’entitat.\nCondicionament o reparació de les infraestructures i/o equipament d’altres espais destinats a l’atenció d’usuaris de l’entitat.\nCobertura de les necessitats bàsiques i d’emergència de les persones afectades.\n\nTOTA LA INFORMACIÓ ACÍ.
URL:https://comiteesceniques.org/event/convocatoria-emergencia-dana-per-a-entitats-socials-de-fundacio-la-caixa/
LOCATION:València
CATEGORIES:Convocatòries
ATTACH;FMTTYPE=image/jpeg:https://comiteesceniques.org/wp-content/uploads/2024/11/Entitats-socials-dana-F-La-Caixa.jpg
END:VEVENT
END:VCALENDAR