BEGIN:VCALENDAR
VERSION:2.0
PRODID:-//Comite - ECPv6.15.12.2//NONSGML v1.0//EN
CALSCALE:GREGORIAN
METHOD:PUBLISH
X-ORIGINAL-URL:https://comiteesceniques.org
X-WR-CALDESC:Esdeveniments per Comite
REFRESH-INTERVAL;VALUE=DURATION:PT1H
X-Robots-Tag:noindex
X-PUBLISHED-TTL:PT1H
BEGIN:VTIMEZONE
TZID:Europe/Madrid
BEGIN:DAYLIGHT
TZOFFSETFROM:+0100
TZOFFSETTO:+0200
TZNAME:CEST
DTSTART:20240331T010000
END:DAYLIGHT
BEGIN:STANDARD
TZOFFSETFROM:+0200
TZOFFSETTO:+0100
TZNAME:CET
DTSTART:20241027T010000
END:STANDARD
BEGIN:DAYLIGHT
TZOFFSETFROM:+0100
TZOFFSETTO:+0200
TZNAME:CEST
DTSTART:20250330T010000
END:DAYLIGHT
BEGIN:STANDARD
TZOFFSETFROM:+0200
TZOFFSETTO:+0100
TZNAME:CET
DTSTART:20251026T010000
END:STANDARD
BEGIN:DAYLIGHT
TZOFFSETFROM:+0100
TZOFFSETTO:+0200
TZNAME:CEST
DTSTART:20260329T010000
END:DAYLIGHT
BEGIN:STANDARD
TZOFFSETFROM:+0200
TZOFFSETTO:+0100
TZNAME:CET
DTSTART:20261025T010000
END:STANDARD
END:VTIMEZONE
BEGIN:VEVENT
DTSTART;VALUE=DATE:20250416
DTEND;VALUE=DATE:20251031
DTSTAMP:20260420T095356
CREATED:20250416T160936Z
LAST-MODIFIED:20250416T161213Z
UID:5109-1744761600-1761868799@comiteesceniques.org
SUMMARY:CONVOCATÒRIA DE PROPOSTES ESCÈNIQUES PER AL PROGRAMA DE TEATRE “ESTRÉNATE” 2026
DESCRIPTION:El Centre d’Iniciatives Culturals de la Universitat de Sevilla ha obert la convocatòria per a participar en el cicle d’arts escèniques ESTRÉNATE 2026.\nSe seleccionaran 20 propostes d’arts escèniques\, que s’estrenaran en el CICUS al llarg de l’any 2026.\nEl caixet a abonar per a cadascuna de les companyies seleccionades serà de 1.500 € més IVA\, la qual cosa inclourà la contractació per part de la companyia\, de tots els artistes i el seu personal tècnic necessari\, excepte el que expressament assumeix la sala.\nEl període de sol·licitud estarà obert fins al 30 d’octubre de 2025.\n\nTERMINI DE PRESENTACIÓ: 30/10/25\n\nMÉS INFORMACIÓ: https://cicus.us.es/convocatoriaestrenate2026/
URL:https://comiteesceniques.org/event/convocatoria-de-propostes-esceniques-per-al-programa-de-teatre-estrenate-2026/
CATEGORIES:Convocatòries
ATTACH;FMTTYPE=image/png:https://comiteesceniques.org/wp-content/uploads/2025/04/Captura-de-pantalla-2025-04-16-a-las-18.08.45.png
END:VEVENT
BEGIN:VEVENT
DTSTART;VALUE=DATE:20250611
DTEND;VALUE=DATE:20260101
DTSTAMP:20260420T095356
CREATED:20250611T095530Z
LAST-MODIFIED:20250611T095530Z
UID:5476-1749600000-1767225599@comiteesceniques.org
SUMMARY:AJUDES PER A LA INCLUSIÓ I ACCESSIBILITAT DE LES PERSONES AFECTADES PER LA DANA
DESCRIPTION:AJUDES PER A LA INCLUSIÓ I ACCESSIBILITAT DE LES PERSONES AFECTADES PER LA DANA\nCERMI\nObert el termini per a sol·licitar les ajudes destinades a persones amb discapacitat afectades per la DANA.\nS’inclouen diferents línies de suport per a promoure l’accessibilitat\, l’autonomia personal i la inclusió\, en àrees com a mobilitat i desplaçament\, comunicació adaptada\, adaptació de vehicles i habitatges\, material ortoprotètic i ortésico\, formació en Autogestió i Prevenció d’Emergències Inclusives i ajudes a Xarxes de Suport.\nRequisits: certificat de discapacitat (major o igual al 33%) i mobilitat reduïda\, estar afectada per la DANA i certificat de no cobertura d’assegurança. \nMés info i sol·licitud ací. \nTermini de presentació fins el 31 de desembre de 2025.
URL:https://comiteesceniques.org/event/ajudes-per-a-la-inclusio-i-accessibilitat-de-les-persones-afectades-per-la-dana/
CATEGORIES:Convocatòries
ATTACH;FMTTYPE=image/png:https://comiteesceniques.org/wp-content/uploads/2025/06/Cabecera-Derecha.png
END:VEVENT
BEGIN:VEVENT
DTSTART;VALUE=DATE:20250902
DTEND;VALUE=DATE:20251201
DTSTAMP:20260420T095356
CREATED:20250902T112138Z
LAST-MODIFIED:20250902T112138Z
UID:5825-1756771200-1764547199@comiteesceniques.org
SUMMARY:LECTURES DRAMATITZADES I MOSTRES WORK IN PROGRESS Programa LEB25 - EKIN
DESCRIPTION:LECTURES DRAMATITZADES I MOSTRES WORK IN PROGRESS Programa LEB25 – EKIN \nL’Associació IRIARTEA PILEZ\, promotora del PROGRAMA LEB 2025\, convoca a autors/as i artistes per a la realització de cinc lectures dramatitzades i/o mostres de processos creatius en l’entorn rural\, en Elizondo a la Vall de Baztan a Navarra. Aquest projecte compta amb la col·laboració del Programa Innova\, impulsat per Fundació Caixa Navarresa i Fundació “la Caixa”. LEB EKIN cerca fomentar el diàleg entre creadors i públic durant els processos creatius que treballen en la línia de noves formes i noves poètiques\, apostes per formats d’avantguarda\, per Nous Llenguatges Escènics (en basc\, Lengoaia Eszeniko Berriak = LEB).\nPodran concórrer dramaturgues/us\, companyies i/o col·lectius i/o artistes escèniques que treballen en codis d’avantguarda i estiguen immersos en processos creatius o tinguen obra (de qualsevol disciplina escènica) encara no estrenada i que vulguen contrastar-la amb el públic.\nDe gener a maig de 2026\, una vegada al mes (en dates per concretar)\, es duran a terme en Elizondo (Baztan\, Navarra)\, lectures dramatitzades i mostres Work in Progress per a fomentar el diàleg entre creadors/as i públic durant els processos creatius. \nTERMINI OBERT FINS EL 30 DE NOVEMBRE DE 2025. \nMÉS INFO ACÍ.
URL:https://comiteesceniques.org/event/lectures-dramatitzades-i-mostres-work-in-progress-programa-leb25-ekin/
CATEGORIES:Convocatòries
ATTACH;FMTTYPE=image/png:https://comiteesceniques.org/wp-content/uploads/2025/09/PROGRAMA-LEB.png
END:VEVENT
BEGIN:VEVENT
DTSTART;VALUE=DATE:20251024
DTEND;VALUE=DATE:20251116
DTSTAMP:20260420T095356
CREATED:20251024T114012Z
LAST-MODIFIED:20251024T114012Z
UID:5898-1761264000-1763251199@comiteesceniques.org
SUMMARY:Open Call - Novi Sad ThatreFestival 2026
DESCRIPTION:Open Call – Novi Sad ThatreFestival 2026\nYouth Theater\, Novi Sad invites all professional theaters to submit their applications for the Novi Sad Theatre Festival\, fifth international theater festival for children and youth\, which will be held in Novi Sad in in the second week of May 2026.\nAll types of theater creation for children and youth are represented at the Festival.\nTheYouth Theater\, Novi Sad\, the organizer of the festival\, provides accommodation and food for the participants as well as travel expenses in the total amount up to 2.000 EUR.\nThe Novi Sad Theatre Festival is a competitive festival\, and the awards will be decided byan international expert jury. \nThe deadline for applications is November 15\, 2025\, and the selection will be announced no later than January 15\, 2026. \nPlease send the completed Application form and video links of the performances to thefollowing e-mail address:\nfestival.npi@gmail.com \nPlease complete the application form in English. \nOther materials\, not available in electronic form\, can be sent by mail to the theater address: \n\nYouth Theater\, Novi Sad\n(Novi Sad Theatre Festival)\nIgnjata Pavlasa 4\n21000 Novi Sad\nSrbija. \n 
URL:https://comiteesceniques.org/event/open-call-novi-sad-thatrefestival-2026/
CATEGORIES:Convocatòries
ATTACH;FMTTYPE=image/png:https://comiteesceniques.org/wp-content/uploads/2025/10/novi-sad.png
END:VEVENT
BEGIN:VEVENT
DTSTART;VALUE=DATE:20251024
DTEND;VALUE=DATE:20251118
DTSTAMP:20260420T095356
CREATED:20251024T113102Z
LAST-MODIFIED:20251024T113102Z
UID:5894-1761264000-1763423999@comiteesceniques.org
SUMMARY:Premi-beca producció-investigació d'obra artística en art\, ciència i tecnologia - REDDIS
DESCRIPTION:La Fundació Privada Reddis\, en col·laboració amb la New Art Foundation\, amb la col·laboració d’Eufònic obren una convocatòria per assignar un premi-beca destinada a la producció-investigació d’obra artística en l’àmbit de la confluència entre l’art\, la ciència i la tecnologia.\nEl projecte seleccionat serà presentat en el marc de les activitats del New Art Centre a la seva seu de Reus. \n\nDescripció:\nUn premi-beca de producció finançada per la Fundació Privada Reddis amb una dotació de 6.000\,00 € (impostos inclosos). \nL’obra produïda esdevindrà propietat de la Fundació Privada Reddis\, preservada i custodiada per la NewArtFoundation. \nL’obra guanyadora s’exhibirà a la propera edició del festival Eufònic\, Festival d’arts sonores\, visuals i digital-performatives a les Terres de l’Ebre. \nLa NewArtFoundation s’encarregarà de la gestió\, la supervisió i el seguiment d’aquesta beca. \nCondicions:\na.Cada sol·licitant (individual o col·lectiu) pot presentar un sol projecte a aquesta convocatòria.\nb. El desenvolupament del projecte comptarà amb l’assessorament i la col·laboració de l’equip de la New Art Foundation i es produirà als tallers del New Art Centre.\nc. Poden optar a aquest premi-beca artistxs\, investigadxrs o desenvolupadxrs de qualsevol edat o nacionalitat amb residència a Catalunya.\nd. Els projectes presentats hauran de prioritzar el treball amb tecnologies de codi obert i sota llicències lliures.\ne. Els projectes presentats poden estar en procés de producció\, però no poden haver estat exposats prèviament. \nMés info ací. \nLa recepció de propostes es tanca el 17 de novembre\, 2025 a les 23:59 (UTC+1h).
URL:https://comiteesceniques.org/event/premi-beca-produccio-investigacio-dobra-artistica-en-art-ciencia-i-tecnologia-reddis/
CATEGORIES:Convocatòries
ATTACH;FMTTYPE=image/png:https://comiteesceniques.org/wp-content/uploads/2025/10/eufonic.png
END:VEVENT
BEGIN:VEVENT
DTSTART;VALUE=DATE:20251024
DTEND;VALUE=DATE:20251122
DTSTAMP:20260420T095356
CREATED:20251024T115626Z
LAST-MODIFIED:20251024T115626Z
UID:5906-1761264000-1763769599@comiteesceniques.org
SUMMARY:INSCRIPCIÓ 29º PREMIS MAX
DESCRIPTION:Els 29° Premis Max obrin el seu període d’inscripció.\nConvocatòria oberta fins al 21 de novembre de 2025. \nEls 29° Premis Max obrin el seu període d’inscripció.\nPer a tots els espectacles i els seus professionals estrenats o en gira des del 16 de desembre de 2024 al 15 de desembre de 2025. \nS’incorporen dues noves categories: Millor elenc de teatre i de dansa. \nLa gala de lliurament serà l’1 de juny en el Teatre Romà de Mèrida. \nEl Comité Organitzador dels Premis Max anuncia l’arrancada de la 29° edició dels Premis Max de les Arts Escèniques amb l’obertura del període d’inscripció d’espectacles estrenats o en gira des del 16 de desembre de 2024 al 15 de desembre de 2025 i dels professionals que els han realitzats en els seus diferents aspectes artístics i tècnics. \nLes produccions que vulguen participar podran inscriure la seua candidatura fins a les 23.30h del 21 de novembre de 2025\, a través de la pàgina web oficial.\nÚnicament es consideraran les obres o espectacles realitzats per companyies professionals. \nTOTA LA INFORMACIÓ ACÍ.
URL:https://comiteesceniques.org/event/inscripcio-29o-premis-max/
CATEGORIES:Convocatòries
ATTACH;FMTTYPE=image/png:https://comiteesceniques.org/wp-content/uploads/2025/10/inscripciones-webmax-2026.png
END:VEVENT
BEGIN:VEVENT
DTSTART;VALUE=DATE:20251025
DTEND;VALUE=DATE:20251110
DTSTAMP:20260420T095356
CREATED:20251024T112106Z
LAST-MODIFIED:20251024T112106Z
UID:5892-1761350400-1762732799@comiteesceniques.org
SUMMARY:Convocatòria d'Obertura de processos creatius TEATRO PRADILLO
DESCRIPTION:Convocatòria d’Obertura de processos creatius TEATRO PRADILLO\n(oberta del 25 d’octubre al 9 de novembre de 2025\, tots dos inclusivament) \nEl TEATRE PRADILLO convoca fins a 34 CREADORES d’Arts Vivas interessades a disposar d’un espai per a obrir les seues sistemàtiques de creació al públic en unes jornades que es desenvoluparan durant gener i febrer 2026. Des del plantejament del diàleg\, la cita es concep com una experiència de contaminació\, mixtura\, intoxicació\, promiscuïtat i perversió d’imaginaris per a testar i contrastar\, en el format que interesse\, els materials generats amb una audiència donada. \nFUNCIONAMENT DE L’ELECCIÓ\nDonat el caràcter participatiu de l’esdeveniment\, per al comissariat (elecció) dels treballs es tindrà en compte\, únicament\, que la trajectòria de les interessades es corresponga amb les línies de treball que solen associar-se amb les Arts Vivas\, vist això\, una vegada obtingut el llistat de les CREADORES que complint aquest requisit queden automàticament preseleccionades\, es creuaran les agendes per a configurar la programació definitiva segons el següent format: \nIdealment\, en funció de la quantitat de propostes presentades\, cada CREADORA disposarà de les instal·lacions del TEATRE PRADILLO 1 dia en SESSIÓ d’investigació de fins a 8 H. que inclourà una CITA OBERTA amb l’audiència de fins a 2 H. començant a les 21 H. Eixe dia\, per a adaptar els materials\, la CREADORA comptarà amb l’acompanyament tècnic d’una integrant de l’EQUIP PRADILLO durant 2 H. Les CITES OBERTES seran d’entrada lliure per a l’audiència. \nPer la participació\, des de la nostra capacitat econòmica\, podem oferir\, a més de la infraestructura\, un suport simbòlic de 150\,00 € per a cada proposta seleccionada. \nEmplenar la inscripció i aportar la documentació en aquest formulari. \nResoldran la programació definitiva a tot tardar el 25 de novembre de 2025 a la seua pàgina web i xarxes socials. \nAclariments en el correu electrònic: pradillo@teatropradillo.com
URL:https://comiteesceniques.org/event/convocatoria-dobertura-de-processos-creatius-teatro-pradillo/
CATEGORIES:Convocatòries
ATTACH;FMTTYPE=image/jpeg:https://comiteesceniques.org/wp-content/uploads/2024/10/TEATRO-PRADILLO.jpg
END:VEVENT
BEGIN:VEVENT
DTSTART;TZID=Europe/Madrid:20251029T210000
DTEND;TZID=Europe/Madrid:20251029T223000
DTSTAMP:20260420T095356
CREATED:20250901T103437Z
LAST-MODIFIED:20250901T103437Z
UID:5801-1761771600-1761777000@comiteesceniques.org
SUMMARY:PRACTICAR EL POSTERIOR\, amb Jor Camacho
DESCRIPTION:PRACTICAR EL POSTERIOR\nLaboratori per a dansar amb el darrere\nJor Camacho \nQuan: Tots els dimecres a partir d’octubre\, de 21 h a 22’30 h\nOn: A Contar Mentiras (València)\nInfo i reserves: Jor Camacho / Tel. 666344512
URL:https://comiteesceniques.org/event/practicar-el-posterior-amb-jor-camacho-5/
LOCATION:A CONTAR MENTIRAS\, C/ Leonor Jovani\, 12\, València\, València\, 46020\, Spain
CATEGORIES:Altres,Formació
ATTACH;FMTTYPE=image/jpeg:https://comiteesceniques.org/wp-content/uploads/2025/09/1-Jor-Camacho-Tarraga-1.jpg
END:VEVENT
END:VCALENDAR