BEGIN:VCALENDAR
VERSION:2.0
PRODID:-//Comite - ECPv6.15.12.2//NONSGML v1.0//EN
CALSCALE:GREGORIAN
METHOD:PUBLISH
X-WR-CALNAME:Comite
X-ORIGINAL-URL:https://comiteesceniques.org
X-WR-CALDESC:Esdeveniments per Comite
REFRESH-INTERVAL;VALUE=DURATION:PT1H
X-Robots-Tag:noindex
X-PUBLISHED-TTL:PT1H
BEGIN:VTIMEZONE
TZID:Europe/Madrid
BEGIN:DAYLIGHT
TZOFFSETFROM:+0100
TZOFFSETTO:+0200
TZNAME:CEST
DTSTART:20240331T010000
END:DAYLIGHT
BEGIN:STANDARD
TZOFFSETFROM:+0200
TZOFFSETTO:+0100
TZNAME:CET
DTSTART:20241027T010000
END:STANDARD
BEGIN:DAYLIGHT
TZOFFSETFROM:+0100
TZOFFSETTO:+0200
TZNAME:CEST
DTSTART:20250330T010000
END:DAYLIGHT
BEGIN:STANDARD
TZOFFSETFROM:+0200
TZOFFSETTO:+0100
TZNAME:CET
DTSTART:20251026T010000
END:STANDARD
BEGIN:DAYLIGHT
TZOFFSETFROM:+0100
TZOFFSETTO:+0200
TZNAME:CEST
DTSTART:20260329T010000
END:DAYLIGHT
BEGIN:STANDARD
TZOFFSETFROM:+0200
TZOFFSETTO:+0100
TZNAME:CET
DTSTART:20261025T010000
END:STANDARD
END:VTIMEZONE
BEGIN:VEVENT
DTSTART;TZID=Europe/Madrid:20250508T200000
DTEND;TZID=Europe/Madrid:20250508T213000
DTSTAMP:20260420T033852
CREATED:20250426T151855Z
LAST-MODIFIED:20250426T151855Z
UID:5143-1746734400-1746739800@comiteesceniques.org
SUMMARY:CUINA! de Cia. Patrícia Pardo
DESCRIPTION:CUINA!\nCia Patrícia Pardo \nQuan: 08 de maig a les 20 h\nOn: Casa de Cultura de Villena (Villena\, Alacant)\nInfo i reserves: Cia. Patrícia Pardo \nQuan: 16 de maig\nOn: Centre Cultural Carmen Alborch de Mislata (Mislata\, València)\nInfo i reserves: Festival MAC
URL:https://comiteesceniques.org/event/cuina-de-cia-patricia-pardo-6/
LOCATION:Casa de Cultura de Villena\, Villena\, Alacant\, Spain
CATEGORIES:Espectacles
ATTACH;FMTTYPE=image/jpeg:https://comiteesceniques.org/wp-content/uploads/2024/10/1-Cia.-Patricia-Pardo.-Cuina-Foto-Stella-Blasco-scaled.jpg
END:VEVENT
END:VCALENDAR