BEGIN:VCALENDAR
VERSION:2.0
PRODID:-//Comite - ECPv6.15.12.2//NONSGML v1.0//EN
CALSCALE:GREGORIAN
METHOD:PUBLISH
X-WR-CALNAME:Comite
X-ORIGINAL-URL:https://comiteesceniques.org
X-WR-CALDESC:Esdeveniments per Comite
REFRESH-INTERVAL;VALUE=DURATION:PT1H
X-Robots-Tag:noindex
X-PUBLISHED-TTL:PT1H
BEGIN:VTIMEZONE
TZID:Europe/Madrid
BEGIN:DAYLIGHT
TZOFFSETFROM:+0100
TZOFFSETTO:+0200
TZNAME:CEST
DTSTART:20240331T010000
END:DAYLIGHT
BEGIN:STANDARD
TZOFFSETFROM:+0200
TZOFFSETTO:+0100
TZNAME:CET
DTSTART:20241027T010000
END:STANDARD
BEGIN:DAYLIGHT
TZOFFSETFROM:+0100
TZOFFSETTO:+0200
TZNAME:CEST
DTSTART:20250330T010000
END:DAYLIGHT
BEGIN:STANDARD
TZOFFSETFROM:+0200
TZOFFSETTO:+0100
TZNAME:CET
DTSTART:20251026T010000
END:STANDARD
BEGIN:DAYLIGHT
TZOFFSETFROM:+0100
TZOFFSETTO:+0200
TZNAME:CEST
DTSTART:20260329T010000
END:DAYLIGHT
BEGIN:STANDARD
TZOFFSETFROM:+0200
TZOFFSETTO:+0100
TZNAME:CET
DTSTART:20261025T010000
END:STANDARD
END:VTIMEZONE
BEGIN:VEVENT
DTSTART;VALUE=DATE:20250301
DTEND;VALUE=DATE:20250302
DTSTAMP:20260419T195307
CREATED:20250127T150525Z
LAST-MODIFIED:20250127T150525Z
UID:4534-1740787200-1740873599@comiteesceniques.org
SUMMARY:LA NOCHE DE SUCCO\, de Colaboración Sweeza
DESCRIPTION:LA NOCHE DE SUCCO\, de la companyia COLABORACIÓN SWEEZA (EVA ZAPICO) \n27 i 28 de febrer + 1\, 2\, 6\, 7\, 8 i 9 de març \nSALA CARME TEATRE (València). \nInfo i entrades ací. \nESTRENA ABSOLUTA
URL:https://comiteesceniques.org/event/la-noche-de-succo-de-colaboracion-sweeza-3/
LOCATION:SALA CARME TEATRE
CATEGORIES:Espectacles
ATTACH;FMTTYPE=image/jpeg:https://comiteesceniques.org/wp-content/uploads/2025/01/succo-Eva-Zapico-Jimenez.jpg
END:VEVENT
BEGIN:VEVENT
DTSTART;VALUE=DATE:20250302
DTEND;VALUE=DATE:20250303
DTSTAMP:20260419T195307
CREATED:20250127T150548Z
LAST-MODIFIED:20250127T150548Z
UID:4536-1740873600-1740959999@comiteesceniques.org
SUMMARY:LA NOCHE DE SUCCO\, de Colaboración Sweeza
DESCRIPTION:LA NOCHE DE SUCCO\, de la companyia COLABORACIÓN SWEEZA (EVA ZAPICO) \n27 i 28 de febrer + 1\, 2\, 6\, 7\, 8 i 9 de març \nSALA CARME TEATRE (València). \nInfo i entrades ací. \nESTRENA ABSOLUTA
URL:https://comiteesceniques.org/event/la-noche-de-succo-de-colaboracion-sweeza-4/
LOCATION:SALA CARME TEATRE
CATEGORIES:Espectacles
ATTACH;FMTTYPE=image/jpeg:https://comiteesceniques.org/wp-content/uploads/2025/01/succo-Eva-Zapico-Jimenez.jpg
END:VEVENT
BEGIN:VEVENT
DTSTART;VALUE=DATE:20250306
DTEND;VALUE=DATE:20250307
DTSTAMP:20260419T195307
CREATED:20250127T150619Z
LAST-MODIFIED:20250127T150619Z
UID:4538-1741219200-1741305599@comiteesceniques.org
SUMMARY:LA NOCHE DE SUCCO\, de Colaboración Sweeza
DESCRIPTION:LA NOCHE DE SUCCO\, de la companyia COLABORACIÓN SWEEZA (EVA ZAPICO) \n27 i 28 de febrer + 1\, 2\, 6\, 7\, 8 i 9 de març \nSALA CARME TEATRE (València). \nInfo i entrades ací. \nESTRENA ABSOLUTA
URL:https://comiteesceniques.org/event/la-noche-de-succo-de-colaboracion-sweeza-5/
LOCATION:SALA CARME TEATRE
CATEGORIES:Espectacles
ATTACH;FMTTYPE=image/jpeg:https://comiteesceniques.org/wp-content/uploads/2025/01/succo-Eva-Zapico-Jimenez.jpg
END:VEVENT
BEGIN:VEVENT
DTSTART;VALUE=DATE:20250307
DTEND;VALUE=DATE:20250308
DTSTAMP:20260419T195307
CREATED:20250127T150641Z
LAST-MODIFIED:20250127T150641Z
UID:4540-1741305600-1741391999@comiteesceniques.org
SUMMARY:LA NOCHE DE SUCCO\, de Colaboración Sweeza
DESCRIPTION:LA NOCHE DE SUCCO\, de la companyia COLABORACIÓN SWEEZA (EVA ZAPICO) \n27 i 28 de febrer + 1\, 2\, 6\, 7\, 8 i 9 de març \nSALA CARME TEATRE (València). \nInfo i entrades ací. \nESTRENA ABSOLUTA
URL:https://comiteesceniques.org/event/la-noche-de-succo-de-colaboracion-sweeza-6/
LOCATION:SALA CARME TEATRE
CATEGORIES:Espectacles
ATTACH;FMTTYPE=image/jpeg:https://comiteesceniques.org/wp-content/uploads/2025/01/succo-Eva-Zapico-Jimenez.jpg
END:VEVENT
BEGIN:VEVENT
DTSTART;VALUE=DATE:20250308
DTEND;VALUE=DATE:20250309
DTSTAMP:20260419T195307
CREATED:20250127T150704Z
LAST-MODIFIED:20250127T150704Z
UID:4542-1741392000-1741478399@comiteesceniques.org
SUMMARY:LA NOCHE DE SUCCO\, de Colaboración Sweeza
DESCRIPTION:LA NOCHE DE SUCCO\, de la companyia COLABORACIÓN SWEEZA (EVA ZAPICO) \n27 i 28 de febrer + 1\, 2\, 6\, 7\, 8 i 9 de març \nSALA CARME TEATRE (València). \nInfo i entrades ací. \nESTRENA ABSOLUTA
URL:https://comiteesceniques.org/event/la-noche-de-succo-de-colaboracion-sweeza-7/
LOCATION:SALA CARME TEATRE
CATEGORIES:Espectacles
ATTACH;FMTTYPE=image/jpeg:https://comiteesceniques.org/wp-content/uploads/2025/01/succo-Eva-Zapico-Jimenez.jpg
END:VEVENT
BEGIN:VEVENT
DTSTART;VALUE=DATE:20250309
DTEND;VALUE=DATE:20250310
DTSTAMP:20260419T195307
CREATED:20250127T150745Z
LAST-MODIFIED:20250127T150745Z
UID:4544-1741478400-1741564799@comiteesceniques.org
SUMMARY:LA NOCHE DE SUCCO\, de Colaboración Sweeza
DESCRIPTION:LA NOCHE DE SUCCO\, de la companyia COLABORACIÓN SWEEZA (EVA ZAPICO) \n27 i 28 de febrer + 1\, 2\, 6\, 7\, 8 i 9 de març \nSALA CARME TEATRE (València). \nInfo i entrades ací. \nESTRENA ABSOLUTA
URL:https://comiteesceniques.org/event/la-noche-de-succo-de-colaboracion-sweeza-8/
LOCATION:SALA CARME TEATRE
CATEGORIES:Espectacles
ATTACH;FMTTYPE=image/jpeg:https://comiteesceniques.org/wp-content/uploads/2025/01/succo-Eva-Zapico-Jimenez.jpg
END:VEVENT
END:VCALENDAR