BEGIN:VCALENDAR
VERSION:2.0
PRODID:-//Comite - ECPv6.15.12.2//NONSGML v1.0//EN
CALSCALE:GREGORIAN
METHOD:PUBLISH
X-ORIGINAL-URL:https://comiteesceniques.org
X-WR-CALDESC:Esdeveniments per Comite
REFRESH-INTERVAL;VALUE=DURATION:PT1H
X-Robots-Tag:noindex
X-PUBLISHED-TTL:PT1H
BEGIN:VTIMEZONE
TZID:Europe/Madrid
BEGIN:DAYLIGHT
TZOFFSETFROM:+0100
TZOFFSETTO:+0200
TZNAME:CEST
DTSTART:20240331T010000
END:DAYLIGHT
BEGIN:STANDARD
TZOFFSETFROM:+0200
TZOFFSETTO:+0100
TZNAME:CET
DTSTART:20241027T010000
END:STANDARD
BEGIN:DAYLIGHT
TZOFFSETFROM:+0100
TZOFFSETTO:+0200
TZNAME:CEST
DTSTART:20250330T010000
END:DAYLIGHT
BEGIN:STANDARD
TZOFFSETFROM:+0200
TZOFFSETTO:+0100
TZNAME:CET
DTSTART:20251026T010000
END:STANDARD
BEGIN:DAYLIGHT
TZOFFSETFROM:+0100
TZOFFSETTO:+0200
TZNAME:CEST
DTSTART:20260329T010000
END:DAYLIGHT
BEGIN:STANDARD
TZOFFSETFROM:+0200
TZOFFSETTO:+0100
TZNAME:CET
DTSTART:20261025T010000
END:STANDARD
END:VTIMEZONE
BEGIN:VEVENT
DTSTART;VALUE=DATE:20250611
DTEND;VALUE=DATE:20250626
DTSTAMP:20260420T083920
CREATED:20250611T095832Z
LAST-MODIFIED:20250611T095832Z
UID:5480-1749600000-1750895999@comiteesceniques.org
SUMMARY:AJUDES PER A LA RECUPERACIÓ D'INSTRUMENTS MUSICALS DANYATS PER LA DANA
DESCRIPTION:AJUDES PER A LA RECUPERACIÓ D’INSTRUMENTS MUSICALS DANYATS PER LA DANA\n  \nLa Universitat de València\, a través de la seua Fundació General\, ha convocat un concurs per a concedir ajudes dirigides a la comunitat universitària de la UV (estudiantat\, PDI\, PTGAS i personal laboral de les seues fundacions)\, així com a membres de les agrupacions musicals de la UV (Orquestra Filharmònica de la UV i Colla de Dolçaines de la UV) afectats per la DANA ocorreguda el dia 29 d’octubre de 2024 i que hagen patit danys o\, fins i tot\, pèrdua dels seus instruments. \nLa resolució amb les instruccions de les bases de la convocatòria es poden descarregar ací: RESOLUCIÓ I BASES REGULADORES \nEl formulari per a adjuntar a la sol·licitud d’ajuda (Annex 2) es pot descarregar ací: FORMULARI DE SOL·LICITUD (ANNEX II)  \nLes sol·licituds s’han de presentar a través de la seu electrònica de la Universitat de València (ENTREU): PRESENTACIÓ DE SOL·LICITUDS \nTERMINI OBERT FINS EL 25 DE JUNY
URL:https://comiteesceniques.org/event/ajudes-per-a-la-recuperacio-dinstruments-musicals-danyats-per-la-dana/
CATEGORIES:Convocatòries
ATTACH;FMTTYPE=image/jpeg:https://comiteesceniques.org/wp-content/uploads/2025/06/piano-web.jpg
END:VEVENT
BEGIN:VEVENT
DTSTART;VALUE=DATE:20250612
DTEND;VALUE=DATE:20250704
DTSTAMP:20260420T083920
CREATED:20250612T093135Z
LAST-MODIFIED:20250612T093135Z
UID:5492-1749686400-1751587199@comiteesceniques.org
SUMMARY:Convocatòria de subvencions destinades al foment d'activitats musicals per a 2025
DESCRIPTION:Convocatòria de subvencions destinades al foment d’activitats musicals per a 2025\nInstitut Valencià de Cultura\nConvocar la concessió de subvencions per al foment d’activitats musicals en la Comunitat Valenciana\, en el marc de les competències del Institut Valencià de Cultura  i d’acord amb els objectius que té encomanats. \nEstes subvencions tenen per finalitat l’impuls i la promoció de la creació\, producció\, difusió i\nexhibició d’actuacions musicals\, a través d’activitats com ara festivals\, cursos de  perfeccionament musical\, producció de concerts i gires\, entre altres\, així com també el fomentar la cooperació amb altres agents i entitats culturals d’àmbit públic o privat\, amb la fi última que la ciutadania puga disposar d’una oferta musical diversificada i de qualitat. \nLes subvencions es concediran d’acord amb els principis de publicitat\, transparència\, objectivitat\, igualtat i no discriminació\, i mitjançant el règim de concurrència competitiva. \nLes activitats hauran de tindre lloc entre l’1 de desembre de 2024 i el 30 de novembre de 2025\, els dos inclosos. \nLes bases reguladores per les quals es regix esta convocatòria\, són les contingudes en la Resolució de 26 de maig de 2025\, de la Conselleria d’Educació\, Cultura\, Universitats i Ocupació per la qual s’establixen  les bases reguladores per a la concessió de subvencions\, en règim de concurrència competitiva\, per al foment d’activitats musicals (DOGV 10118\, 29.05.2025).\nEstes ajudes se sotmetran al que es disposa en les bases reguladores i en la present convocatòria\, a la normativa bàsica de la Llei 38/2003\, de 17 de novembre\, general de subvencions  i la seua normativa de desenrotllament\, i al que establix la Llei 1/2015\, de 6 de febrer\, de la Generalitat\, d’hisenda pública\, del sector públic instrumental i de subvencions.
URL:https://comiteesceniques.org/event/convocatoria-de-subvencions-destinades-al-foment-dactivitats-musicals-per-a-2025/
CATEGORIES:Convocatòries
ATTACH;FMTTYPE=image/png:https://comiteesceniques.org/wp-content/uploads/2025/06/Captura-de-pantalla-2025-06-12-113026.png
END:VEVENT
END:VCALENDAR