BEGIN:VCALENDAR
VERSION:2.0
PRODID:-//Comite - ECPv6.15.12.2//NONSGML v1.0//EN
CALSCALE:GREGORIAN
METHOD:PUBLISH
X-WR-CALNAME:Comite
X-ORIGINAL-URL:https://comiteesceniques.org
X-WR-CALDESC:Esdeveniments per Comite
REFRESH-INTERVAL;VALUE=DURATION:PT1H
X-Robots-Tag:noindex
X-PUBLISHED-TTL:PT1H
BEGIN:VTIMEZONE
TZID:Europe/Madrid
BEGIN:DAYLIGHT
TZOFFSETFROM:+0100
TZOFFSETTO:+0200
TZNAME:CEST
DTSTART:20240331T010000
END:DAYLIGHT
BEGIN:STANDARD
TZOFFSETFROM:+0200
TZOFFSETTO:+0100
TZNAME:CET
DTSTART:20241027T010000
END:STANDARD
BEGIN:DAYLIGHT
TZOFFSETFROM:+0100
TZOFFSETTO:+0200
TZNAME:CEST
DTSTART:20250330T010000
END:DAYLIGHT
BEGIN:STANDARD
TZOFFSETFROM:+0200
TZOFFSETTO:+0100
TZNAME:CET
DTSTART:20251026T010000
END:STANDARD
BEGIN:DAYLIGHT
TZOFFSETFROM:+0100
TZOFFSETTO:+0200
TZNAME:CEST
DTSTART:20260329T010000
END:DAYLIGHT
BEGIN:STANDARD
TZOFFSETFROM:+0200
TZOFFSETTO:+0100
TZNAME:CET
DTSTART:20261025T010000
END:STANDARD
END:VTIMEZONE
BEGIN:VEVENT
DTSTART;TZID=Europe/Madrid:20250516T183000
DTEND;TZID=Europe/Madrid:20250516T190000
DTSTAMP:20260421T214901
CREATED:20250513T094710Z
LAST-MODIFIED:20250513T094710Z
UID:5231-1747420200-1747422000@comiteesceniques.org
SUMMARY:FRACASA OTRA VEZ\, FRACASA MEJOR\, de La Subterránea
DESCRIPTION:FRACASA OTRA VEZ\, FRACASA MEJOR\, de La Subterránea\nDivendres 16 de maig: 18.30h / 19.30h\nDissabte 17 de maig: 18:00h / 19:00h / 20:00h\nDiumenge 18 de maig: 18:00h / 19:00h / 20:00h \nCol·legi Santiago Apòstol. C/ Arquebisbe Company\, 57 (València) \nESTRENA ABSOLUTA
URL:https://comiteesceniques.org/event/fracasa-otra-vez-fracasa-mejor-de-la-subterranea/
LOCATION:Col·legi Santiago Apòstol\, c/ Arquebisbe Company\, 57\, València\, València\, 46011\, Spain
CATEGORIES:Espectacles
ATTACH;FMTTYPE=image/jpeg:https://comiteesceniques.org/wp-content/uploads/2025/05/fracasa-mejor-Ester-Martinez-Medrano.jpg
END:VEVENT
BEGIN:VEVENT
DTSTART;TZID=Europe/Madrid:20250516T193000
DTEND;TZID=Europe/Madrid:20250516T200000
DTSTAMP:20260421T214901
CREATED:20250513T094811Z
LAST-MODIFIED:20250513T094811Z
UID:5236-1747423800-1747425600@comiteesceniques.org
SUMMARY:FRACASA OTRA VEZ\, FRACASA MEJOR\, de La Subterránea
DESCRIPTION:FRACASA OTRA VEZ\, FRACASA MEJOR\, de La Subterránea\nDivendres 16 de maig: 18.30h / 19.30h\nDissabte 17 de maig: 18:00h / 19:00h / 20:00h\nDiumenge 18 de maig: 18:00h / 19:00h / 20:00h \nCol·legi Santiago Apòstol. C/ Arquebisbe Company\, 57 (València) \nESTRENA ABSOLUTA
URL:https://comiteesceniques.org/event/fracasa-otra-vez-fracasa-mejor-de-la-subterranea-2/
LOCATION:Col·legi Santiago Apòstol\, c/ Arquebisbe Company\, 57\, València\, València\, 46011\, Spain
CATEGORIES:Espectacles
ATTACH;FMTTYPE=image/jpeg:https://comiteesceniques.org/wp-content/uploads/2025/05/fracasa-mejor-Ester-Martinez-Medrano.jpg
END:VEVENT
BEGIN:VEVENT
DTSTART;TZID=Europe/Madrid:20250517T180000
DTEND;TZID=Europe/Madrid:20250517T183000
DTSTAMP:20260421T214901
CREATED:20250513T094904Z
LAST-MODIFIED:20250513T094904Z
UID:5238-1747504800-1747506600@comiteesceniques.org
SUMMARY:FRACASA OTRA VEZ\, FRACASA MEJOR\, de La Subterránea
DESCRIPTION:FRACASA OTRA VEZ\, FRACASA MEJOR\, de La Subterránea\nDivendres 16 de maig: 18.30h / 19.30h\nDissabte 17 de maig: 18:00h / 19:00h / 20:00h\nDiumenge 18 de maig: 18:00h / 19:00h / 20:00h \nCol·legi Santiago Apòstol. C/ Arquebisbe Company\, 57 (València) \nESTRENA ABSOLUTA
URL:https://comiteesceniques.org/event/fracasa-otra-vez-fracasa-mejor-de-la-subterranea-3/
LOCATION:Col·legi Santiago Apòstol\, c/ Arquebisbe Company\, 57\, València\, València\, 46011\, Spain
CATEGORIES:Espectacles
ATTACH;FMTTYPE=image/jpeg:https://comiteesceniques.org/wp-content/uploads/2025/05/fracasa-mejor-Ester-Martinez-Medrano.jpg
END:VEVENT
BEGIN:VEVENT
DTSTART;TZID=Europe/Madrid:20250517T190000
DTEND;TZID=Europe/Madrid:20250517T193000
DTSTAMP:20260421T214901
CREATED:20250513T095031Z
LAST-MODIFIED:20250513T095031Z
UID:5240-1747508400-1747510200@comiteesceniques.org
SUMMARY:FRACASA OTRA VEZ\, FRACASA MEJOR\, de La Subterránea
DESCRIPTION:FRACASA OTRA VEZ\, FRACASA MEJOR\, de La Subterránea\nDivendres 16 de maig: 18.30h / 19.30h\nDissabte 17 de maig: 18:00h / 19:00h / 20:00h\nDiumenge 18 de maig: 18:00h / 19:00h / 20:00h \nCol·legi Santiago Apòstol. C/ Arquebisbe Company\, 57 (València) \nESTRENA ABSOLUTA
URL:https://comiteesceniques.org/event/fracasa-otra-vez-fracasa-mejor-de-la-subterranea-4/
LOCATION:Col·legi Santiago Apòstol\, c/ Arquebisbe Company\, 57\, València\, València\, 46011\, Spain
CATEGORIES:Espectacles
ATTACH;FMTTYPE=image/jpeg:https://comiteesceniques.org/wp-content/uploads/2025/05/fracasa-mejor-Ester-Martinez-Medrano.jpg
END:VEVENT
BEGIN:VEVENT
DTSTART;TZID=Europe/Madrid:20250517T200000
DTEND;TZID=Europe/Madrid:20250517T203000
DTSTAMP:20260421T214901
CREATED:20250513T095225Z
LAST-MODIFIED:20250513T095225Z
UID:5242-1747512000-1747513800@comiteesceniques.org
SUMMARY:FRACASA OTRA VEZ\, FRACASA MEJOR\, de La Subterránea
DESCRIPTION:FRACASA OTRA VEZ\, FRACASA MEJOR\, de La Subterránea\nDivendres 16 de maig: 18.30h / 19.30h\nDissabte 17 de maig: 18:00h / 19:00h / 20:00h\nDiumenge 18 de maig: 18:00h / 19:00h / 20:00h \nCol·legi Santiago Apòstol. C/ Arquebisbe Company\, 57 (València) \nESTRENA ABSOLUTA
URL:https://comiteesceniques.org/event/fracasa-otra-vez-fracasa-mejor-de-la-subterranea-5/
LOCATION:Col·legi Santiago Apòstol\, c/ Arquebisbe Company\, 57\, València\, València\, 46011\, Spain
CATEGORIES:Espectacles
ATTACH;FMTTYPE=image/jpeg:https://comiteesceniques.org/wp-content/uploads/2025/05/fracasa-mejor-Ester-Martinez-Medrano.jpg
END:VEVENT
BEGIN:VEVENT
DTSTART;TZID=Europe/Madrid:20250518T180000
DTEND;TZID=Europe/Madrid:20250518T183000
DTSTAMP:20260421T214901
CREATED:20250513T095415Z
LAST-MODIFIED:20250513T095415Z
UID:5244-1747591200-1747593000@comiteesceniques.org
SUMMARY:FRACASA OTRA VEZ\, FRACASA MEJOR\, de La Subterránea
DESCRIPTION:FRACASA OTRA VEZ\, FRACASA MEJOR\, de La Subterránea\nDivendres 16 de maig: 18.30h / 19.30h\nDissabte 17 de maig: 18:00h / 19:00h / 20:00h\nDiumenge 18 de maig: 18:00h / 19:00h / 20:00h \nCol·legi Santiago Apòstol. C/ Arquebisbe Company\, 57 (València) \nESTRENA ABSOLUTA
URL:https://comiteesceniques.org/event/fracasa-otra-vez-fracasa-mejor-de-la-subterranea-6/
LOCATION:Col·legi Santiago Apòstol\, c/ Arquebisbe Company\, 57\, València\, València\, 46011\, Spain
CATEGORIES:Espectacles
ATTACH;FMTTYPE=image/jpeg:https://comiteesceniques.org/wp-content/uploads/2025/05/fracasa-mejor-Ester-Martinez-Medrano.jpg
END:VEVENT
BEGIN:VEVENT
DTSTART;TZID=Europe/Madrid:20250518T190000
DTEND;TZID=Europe/Madrid:20250518T193000
DTSTAMP:20260421T214901
CREATED:20250513T095518Z
LAST-MODIFIED:20250513T095518Z
UID:5246-1747594800-1747596600@comiteesceniques.org
SUMMARY:FRACASA OTRA VEZ\, FRACASA MEJOR\, de La Subterránea
DESCRIPTION:FRACASA OTRA VEZ\, FRACASA MEJOR\, de La Subterránea\nDivendres 16 de maig: 18.30h / 19.30h\nDissabte 17 de maig: 18:00h / 19:00h / 20:00h\nDiumenge 18 de maig: 18:00h / 19:00h / 20:00h \nCol·legi Santiago Apòstol. C/ Arquebisbe Company\, 57 (València) \nESTRENA ABSOLUTA
URL:https://comiteesceniques.org/event/fracasa-otra-vez-fracasa-mejor-de-la-subterranea-7/
LOCATION:Col·legi Santiago Apòstol\, c/ Arquebisbe Company\, 57\, València\, València\, 46011\, Spain
CATEGORIES:Espectacles
ATTACH;FMTTYPE=image/jpeg:https://comiteesceniques.org/wp-content/uploads/2025/05/fracasa-mejor-Ester-Martinez-Medrano.jpg
END:VEVENT
BEGIN:VEVENT
DTSTART;TZID=Europe/Madrid:20250518T200000
DTEND;TZID=Europe/Madrid:20250518T203000
DTSTAMP:20260421T214901
CREATED:20250513T095613Z
LAST-MODIFIED:20250513T095613Z
UID:5248-1747598400-1747600200@comiteesceniques.org
SUMMARY:FRACASA OTRA VEZ\, FRACASA MEJOR\, de La Subterránea
DESCRIPTION:FRACASA OTRA VEZ\, FRACASA MEJOR\, de La Subterránea\nDivendres 16 de maig: 18.30h / 19.30h\nDissabte 17 de maig: 18:00h / 19:00h / 20:00h\nDiumenge 18 de maig: 18:00h / 19:00h / 20:00h \nCol·legi Santiago Apòstol. C/ Arquebisbe Company\, 57 (València) \nESTRENA ABSOLUTA
URL:https://comiteesceniques.org/event/fracasa-otra-vez-fracasa-mejor-de-la-subterranea-8/
LOCATION:Col·legi Santiago Apòstol\, c/ Arquebisbe Company\, 57\, València\, València\, 46011\, Spain
CATEGORIES:Espectacles
ATTACH;FMTTYPE=image/jpeg:https://comiteesceniques.org/wp-content/uploads/2025/05/fracasa-mejor-Ester-Martinez-Medrano.jpg
END:VEVENT
END:VCALENDAR