BEGIN:VCALENDAR
VERSION:2.0
PRODID:-//Comite - ECPv6.15.12.2//NONSGML v1.0//EN
CALSCALE:GREGORIAN
METHOD:PUBLISH
X-ORIGINAL-URL:https://comiteesceniques.org
X-WR-CALDESC:Esdeveniments per Comite
REFRESH-INTERVAL;VALUE=DURATION:PT1H
X-Robots-Tag:noindex
X-PUBLISHED-TTL:PT1H
BEGIN:VTIMEZONE
TZID:Europe/Madrid
BEGIN:DAYLIGHT
TZOFFSETFROM:+0100
TZOFFSETTO:+0200
TZNAME:CEST
DTSTART:20230326T010000
END:DAYLIGHT
BEGIN:STANDARD
TZOFFSETFROM:+0200
TZOFFSETTO:+0100
TZNAME:CET
DTSTART:20231029T010000
END:STANDARD
BEGIN:DAYLIGHT
TZOFFSETFROM:+0100
TZOFFSETTO:+0200
TZNAME:CEST
DTSTART:20240331T010000
END:DAYLIGHT
BEGIN:STANDARD
TZOFFSETFROM:+0200
TZOFFSETTO:+0100
TZNAME:CET
DTSTART:20241027T010000
END:STANDARD
BEGIN:DAYLIGHT
TZOFFSETFROM:+0100
TZOFFSETTO:+0200
TZNAME:CEST
DTSTART:20250330T010000
END:DAYLIGHT
BEGIN:STANDARD
TZOFFSETFROM:+0200
TZOFFSETTO:+0100
TZNAME:CET
DTSTART:20251026T010000
END:STANDARD
END:VTIMEZONE
BEGIN:VEVENT
DTSTART;TZID=Europe/Madrid:20241027T173000
DTEND;TZID=Europe/Madrid:20241027T190000
DTSTAMP:20260419T201051
CREATED:20241022T115154Z
LAST-MODIFIED:20241022T115425Z
UID:4037-1730050200-1730055600@comiteesceniques.org
SUMMARY:LES RIQUESES INVISIBLES\, de Teatres de la Llum
DESCRIPTION:LES RIQUESES INVISIBLES\, de Teatres de La Llum. 27 d’octubre a les 17.30 h i a les 19.15 h al Festival 2pasos de Sogorb.
URL:https://comiteesceniques.org/event/les-riqueses-invisibles-de-teatres-de-la-llum/
LOCATION:FESTIVAL 2PASOS\, SEGORBE\, Castelló\, 12400\, Spain
CATEGORIES:Espectacles
ATTACH;FMTTYPE=image/jpeg:https://comiteesceniques.org/wp-content/uploads/2024/10/LAS-RIQUEZAS-INVISIBLES-portada-1-minut_page-0001-Teatres-de-la-Llum.jpg
END:VEVENT
BEGIN:VEVENT
DTSTART;TZID=Europe/Madrid:20241027T191500
DTEND;TZID=Europe/Madrid:20241027T210000
DTSTAMP:20260419T201051
CREATED:20241022T115620Z
LAST-MODIFIED:20241022T115620Z
UID:4043-1730056500-1730062800@comiteesceniques.org
SUMMARY:LES RIQUESES INVISIBLES\, de Teatres de la Llum
DESCRIPTION:LES RIQUESES INVISIBLES\, de Teatres de La Llum. 27 d’octubre a les 17.30 h i a les 19.15 h al Festival 2pasos de Sogorb.
URL:https://comiteesceniques.org/event/les-riqueses-invisibles-de-teatres-de-la-llum-2/
LOCATION:FESTIVAL 2PASOS\, SEGORBE\, Castelló\, 12400\, Spain
CATEGORIES:Espectacles
ATTACH;FMTTYPE=image/jpeg:https://comiteesceniques.org/wp-content/uploads/2024/10/LAS-RIQUEZAS-INVISIBLES-portada-1-minut_page-0001-Teatres-de-la-Llum.jpg
END:VEVENT
END:VCALENDAR