BEGIN:VCALENDAR
VERSION:2.0
PRODID:-//Comite - ECPv6.15.12.2//NONSGML v1.0//EN
CALSCALE:GREGORIAN
METHOD:PUBLISH
X-WR-CALNAME:Comite
X-ORIGINAL-URL:https://comiteesceniques.org
X-WR-CALDESC:Esdeveniments per Comite
REFRESH-INTERVAL;VALUE=DURATION:PT1H
X-Robots-Tag:noindex
X-PUBLISHED-TTL:PT1H
BEGIN:VTIMEZONE
TZID:Europe/Madrid
BEGIN:DAYLIGHT
TZOFFSETFROM:+0100
TZOFFSETTO:+0200
TZNAME:CEST
DTSTART:20240331T010000
END:DAYLIGHT
BEGIN:STANDARD
TZOFFSETFROM:+0200
TZOFFSETTO:+0100
TZNAME:CET
DTSTART:20241027T010000
END:STANDARD
BEGIN:DAYLIGHT
TZOFFSETFROM:+0100
TZOFFSETTO:+0200
TZNAME:CEST
DTSTART:20250330T010000
END:DAYLIGHT
BEGIN:STANDARD
TZOFFSETFROM:+0200
TZOFFSETTO:+0100
TZNAME:CET
DTSTART:20251026T010000
END:STANDARD
BEGIN:DAYLIGHT
TZOFFSETFROM:+0100
TZOFFSETTO:+0200
TZNAME:CEST
DTSTART:20260329T010000
END:DAYLIGHT
BEGIN:STANDARD
TZOFFSETFROM:+0200
TZOFFSETTO:+0100
TZNAME:CET
DTSTART:20261025T010000
END:STANDARD
END:VTIMEZONE
BEGIN:VEVENT
DTSTART;VALUE=DATE:20250524
DTEND;VALUE=DATE:20250525
DTSTAMP:20260419T224919
CREATED:20250509T084833Z
LAST-MODIFIED:20250509T084833Z
UID:5181-1748044800-1748131199@comiteesceniques.org
SUMMARY:Escenas de la vida contemporánea con sus bichitos y todo\, de Cia La Galguera
DESCRIPTION:Escenas de la vida contemporánea con sus bichitos y todo\, de Cia La Galguera\n24 de maig en el Teatro Riad Sultán de Tánger \nVídeo promocional ací. \nMés informació ací. \n 
URL:https://comiteesceniques.org/event/escenas-de-la-vida-contemporanea-con-sus-bichitos-y-todo-de-cia-la-galguera/
LOCATION:Teatro Riad Sultán\, Q5QP+JQ7\, Rue Riad Sultan\,\, Tanger\, 90000\, Morocco
CATEGORIES:Espectacles
ATTACH;FMTTYPE=image/jpeg:https://comiteesceniques.org/wp-content/uploads/2025/05/Escenas-bichitos_cia-la-galguera-scaled.jpg
END:VEVENT
END:VCALENDAR